BEGIN:VCALENDAR
VERSION:2.0
PRODID:-//FAburlesque - ECPv6.14.2//NONSGML v1.0//EN
CALSCALE:GREGORIAN
METHOD:PUBLISH
X-WR-CALNAME:FAburlesque
X-ORIGINAL-URL:https://faburlesque.com
X-WR-CALDESC:Évènements pour FAburlesque
REFRESH-INTERVAL;VALUE=DURATION:PT1H
X-Robots-Tag:noindex
X-PUBLISHED-TTL:PT1H
BEGIN:VTIMEZONE
TZID:Europe/Paris
BEGIN:DAYLIGHT
TZOFFSETFROM:+0100
TZOFFSETTO:+0200
TZNAME:CEST
DTSTART:20250330T010000
END:DAYLIGHT
BEGIN:STANDARD
TZOFFSETFROM:+0200
TZOFFSETTO:+0100
TZNAME:CET
DTSTART:20251026T010000
END:STANDARD
END:VTIMEZONE
BEGIN:VEVENT
DTSTART;TZID=Europe/Paris:20251002T200000
DTEND;TZID=Europe/Paris:20251002T213000
DTSTAMP:20260423T231743
CREATED:20250816T184311Z
LAST-MODIFIED:20250816T184903Z
UID:3926-1759435200-1759440600@faburlesque.com
SUMMARY:2e année
DESCRIPTION:Cycle 1 – En ÉVENTAIL 1
URL:https://faburlesque.com/event/2e-annee/
LOCATION:salle Lafage danse\, 2 Rue Lafage\, Toulouse\, 31300\, France
CATEGORIES:2e année,Cours
ATTACH;FMTTYPE=image/jpeg:https://faburlesque.com/wp-content/uploads/2023/07/123143539_10222760474462360_106654747560542742_o.jpg
ORGANIZER;CN="FAburlesque":MAILTO:contact@faburlesque.com
END:VEVENT
BEGIN:VEVENT
DTSTART;TZID=Europe/Paris:20251007T190000
DTEND;TZID=Europe/Paris:20251007T203000
DTSTAMP:20260423T231743
CREATED:20250816T111108Z
LAST-MODIFIED:20250816T154137Z
UID:3723-1759863600-1759869000@faburlesque.com
SUMMARY:Cours burlesque hebdo  "Je suis"
DESCRIPTION:Cycle 1 – À bras ouverts 2
URL:https://faburlesque.com/event/cours-burlesque-hebdo-je-suis-3/
LOCATION:Salle Nini Lapointure /Paléficat\, 9 Chemin de Paléficat\, Toulouse\, 31200\, France
CATEGORIES:"Je suis",Cours burlesques hebdo
ATTACH;FMTTYPE=image/jpeg:https://faburlesque.com/wp-content/uploads/2022/05/01-IMG_3275-2-scaled.jpg
ORGANIZER;CN="FAburlesque":MAILTO:contact@faburlesque.com
END:VEVENT
BEGIN:VEVENT
DTSTART;TZID=Europe/Paris:20251007T204500
DTEND;TZID=Europe/Paris:20251007T221500
DTSTAMP:20260423T231743
CREATED:20250816T113612Z
LAST-MODIFIED:20250816T144701Z
UID:3771-1759869900-1759875300@faburlesque.com
SUMMARY:Cours burlesque hebdo  "Je fais"
DESCRIPTION:Cycle 1 – À bras ouverts 2
URL:https://faburlesque.com/event/cours-burlesque-hebdo-je-fais-2/
LOCATION:Salle Nini Lapointure /Paléficat\, 9 Chemin de Paléficat\, Toulouse\, 31200\, France
CATEGORIES:"Je fais",Cours burlesques hebdo
ATTACH;FMTTYPE=image/jpeg:https://faburlesque.com/wp-content/uploads/2022/05/01-IMG_3275-2-scaled.jpg
ORGANIZER;CN="FAburlesque":MAILTO:contact@faburlesque.com
END:VEVENT
BEGIN:VEVENT
DTSTART;TZID=Europe/Paris:20251009T200000
DTEND;TZID=Europe/Paris:20251009T220000
DTSTAMP:20260423T231743
CREATED:20250816T182539Z
LAST-MODIFIED:20250816T183408Z
UID:3913-1760040000-1760047200@faburlesque.com
SUMMARY:Impro burlesque
DESCRIPTION:Cycle 1 – Bases 2\n(manteau / chemisier / sous-vêtements)
URL:https://faburlesque.com/event/impro-burlesque-2/
LOCATION:salle Lafage danse\, 2 Rue Lafage\, Toulouse\, 31300\, France
CATEGORIES:Cours,Impro burlesque
ATTACH;FMTTYPE=image/jpeg:https://faburlesque.com/wp-content/uploads/2025/08/GALA-FABURLESQUE-Jeudi-26-juin-2025-photos-TRAN-PHAT-133-scaled.jpg
ORGANIZER;CN="FAburlesque":MAILTO:contact@faburlesque.com
END:VEVENT
BEGIN:VEVENT
DTSTART;TZID=Europe/Paris:20251012T150000
DTEND;TZID=Europe/Paris:20251012T180000
DTSTAMP:20260423T231743
CREATED:20250816T180147Z
LAST-MODIFIED:20250816T213353Z
UID:3884-1760281200-1760292000@faburlesque.com
SUMMARY:Chœur burlesque
DESCRIPTION:Cycle 1 – Freak Show 1
URL:https://faburlesque.com/event/choeur-burlesque/
LOCATION:Salle Nini Lapointure /Paléficat\, 9 Chemin de Paléficat\, Toulouse\, 31200\, France
CATEGORIES:Chœur burlesque,Cours
ATTACH;FMTTYPE=image/jpeg:https://faburlesque.com/wp-content/uploads/2022/05/DSC05858RS-WEB-scaled.jpg
ORGANIZER;CN="FAburlesque":MAILTO:contact@faburlesque.com
END:VEVENT
BEGIN:VEVENT
DTSTART;TZID=Europe/Paris:20251014T190000
DTEND;TZID=Europe/Paris:20251014T203000
DTSTAMP:20260423T231743
CREATED:20250816T110849Z
LAST-MODIFIED:20250816T154159Z
UID:3719-1760468400-1760473800@faburlesque.com
SUMMARY:Cours burlesque hebdo  "Je suis"
DESCRIPTION:Cycle 1 – À bras ouverts 3
URL:https://faburlesque.com/event/cours-burlesque-hebdo-je-suis/
LOCATION:Salle Nini Lapointure /Paléficat\, 9 Chemin de Paléficat\, Toulouse\, 31200\, France
CATEGORIES:"Je suis",Cours burlesques hebdo
ATTACH;FMTTYPE=image/jpeg:https://faburlesque.com/wp-content/uploads/2022/05/01-IMG_3275-2-scaled.jpg
ORGANIZER;CN="FAburlesque":MAILTO:contact@faburlesque.com
END:VEVENT
BEGIN:VEVENT
DTSTART;TZID=Europe/Paris:20251014T204500
DTEND;TZID=Europe/Paris:20251014T221500
DTSTAMP:20260423T231743
CREATED:20250816T113708Z
LAST-MODIFIED:20250816T145458Z
UID:3773-1760474700-1760480100@faburlesque.com
SUMMARY:Cours burlesque hebdo  "Je fais"
DESCRIPTION:Cycle 1 – À bras ouverts 3
URL:https://faburlesque.com/event/cours-burlesque-hebdo-je-fais-3/
LOCATION:Salle Nini Lapointure /Paléficat\, 9 Chemin de Paléficat\, Toulouse\, 31200\, France
CATEGORIES:"Je fais",Cours burlesques hebdo
ATTACH;FMTTYPE=image/jpeg:https://faburlesque.com/wp-content/uploads/2022/05/01-IMG_3275-2-scaled.jpg
ORGANIZER;CN="FAburlesque":MAILTO:contact@faburlesque.com
END:VEVENT
BEGIN:VEVENT
DTSTART;TZID=Europe/Paris:20251016T200000
DTEND;TZID=Europe/Paris:20251016T213000
DTSTAMP:20260423T231743
CREATED:20250816T184503Z
LAST-MODIFIED:20250816T184503Z
UID:3928-1760644800-1760650200@faburlesque.com
SUMMARY:2e année
DESCRIPTION:Cycle 1 – En ÉVENTAIL 2
URL:https://faburlesque.com/event/2e-annee-2/
LOCATION:salle Lafage danse\, 2 Rue Lafage\, Toulouse\, 31300\, France
CATEGORIES:2e année,Cours
ATTACH;FMTTYPE=image/jpeg:https://faburlesque.com/wp-content/uploads/2023/07/123143539_10222760474462360_106654747560542742_o.jpg
ORGANIZER;CN="FAburlesque":MAILTO:contact@faburlesque.com
END:VEVENT
BEGIN:VEVENT
DTSTART;TZID=Europe/Paris:20251023T200000
DTEND;TZID=Europe/Paris:20251023T213000
DTSTAMP:20260423T231743
CREATED:20250816T184625Z
LAST-MODIFIED:20250816T184625Z
UID:3930-1761249600-1761255000@faburlesque.com
SUMMARY:2e année
DESCRIPTION:Cycle 1 – En ÉVENTAIL 3
URL:https://faburlesque.com/event/2e-annee-3/
LOCATION:salle Lafage danse\, 2 Rue Lafage\, Toulouse\, 31300\, France
CATEGORIES:2e année,Cours
ATTACH;FMTTYPE=image/jpeg:https://faburlesque.com/wp-content/uploads/2023/07/123143539_10222760474462360_106654747560542742_o.jpg
ORGANIZER;CN="FAburlesque":MAILTO:contact@faburlesque.com
END:VEVENT
BEGIN:VEVENT
DTSTART;TZID=Europe/Paris:20251030T200000
DTEND;TZID=Europe/Paris:20251030T220000
DTSTAMP:20260423T231743
CREATED:20250816T195805Z
LAST-MODIFIED:20250816T195805Z
UID:3961-1761854400-1761861600@faburlesque.com
SUMMARY:Burlesque musical
DESCRIPTION:Cycle 1 – Freak Show 1
URL:https://faburlesque.com/event/burlesque-musical/
LOCATION:salle Lafage danse\, 2 Rue Lafage\, Toulouse\, 31300\, France
CATEGORIES:Burlesque musical,Cours
ATTACH;FMTTYPE=image/jpeg:https://faburlesque.com/wp-content/uploads/2024/05/10-12-par-Melissa-Loubet-scaled.jpg
ORGANIZER;CN="FAburlesque":MAILTO:contact@faburlesque.com
END:VEVENT
END:VCALENDAR