BEGIN:VCALENDAR
VERSION:2.0
PRODID:-//FAburlesque - ECPv6.14.2//NONSGML v1.0//EN
CALSCALE:GREGORIAN
METHOD:PUBLISH
X-ORIGINAL-URL:https://faburlesque.com
X-WR-CALDESC:Évènements pour FAburlesque
REFRESH-INTERVAL;VALUE=DURATION:PT1H
X-Robots-Tag:noindex
X-PUBLISHED-TTL:PT1H
BEGIN:VTIMEZONE
TZID:Europe/Paris
BEGIN:DAYLIGHT
TZOFFSETFROM:+0100
TZOFFSETTO:+0200
TZNAME:CEST
DTSTART:20250330T010000
END:DAYLIGHT
BEGIN:STANDARD
TZOFFSETFROM:+0200
TZOFFSETTO:+0100
TZNAME:CET
DTSTART:20251026T010000
END:STANDARD
END:VTIMEZONE
BEGIN:VEVENT
DTSTART;TZID=Europe/Paris:20251204T200000
DTEND;TZID=Europe/Paris:20251204T213000
DTSTAMP:20260423T211214
CREATED:20250816T184839Z
LAST-MODIFIED:20250816T184839Z
UID:3934-1764878400-1764883800@faburlesque.com
SUMMARY:2e année
DESCRIPTION:Cycle 2 – CANNE à sons 1
URL:https://faburlesque.com/event/2e-annee-5/
LOCATION:salle Lafage danse\, 2 Rue Lafage\, Toulouse\, 31300\, France
CATEGORIES:2e année,Cours
ATTACH;FMTTYPE=image/jpeg:https://faburlesque.com/wp-content/uploads/2023/07/123143539_10222760474462360_106654747560542742_o.jpg
ORGANIZER;CN="FAburlesque":MAILTO:contact@faburlesque.com
END:VEVENT
BEGIN:VEVENT
DTSTART;TZID=Europe/Paris:20251211T200000
DTEND;TZID=Europe/Paris:20251211T213000
DTSTAMP:20260423T211214
CREATED:20250816T184952Z
LAST-MODIFIED:20250816T184952Z
UID:3936-1765483200-1765488600@faburlesque.com
SUMMARY:2e année
DESCRIPTION:Cycle 2 – CANNE à sons 2
URL:https://faburlesque.com/event/2e-annee-6/
LOCATION:salle Lafage danse\, 2 Rue Lafage\, Toulouse\, 31300\, France
CATEGORIES:2e année,Cours
ATTACH;FMTTYPE=image/jpeg:https://faburlesque.com/wp-content/uploads/2023/07/123143539_10222760474462360_106654747560542742_o.jpg
ORGANIZER;CN="FAburlesque":MAILTO:contact@faburlesque.com
END:VEVENT
END:VCALENDAR