BEGIN:VCALENDAR
VERSION:2.0
PRODID:-//FAburlesque - ECPv6.14.2//NONSGML v1.0//EN
CALSCALE:GREGORIAN
METHOD:PUBLISH
X-ORIGINAL-URL:https://faburlesque.com
X-WR-CALDESC:Évènements pour FAburlesque
REFRESH-INTERVAL;VALUE=DURATION:PT1H
X-Robots-Tag:noindex
X-PUBLISHED-TTL:PT1H
BEGIN:VTIMEZONE
TZID:Europe/Paris
BEGIN:DAYLIGHT
TZOFFSETFROM:+0100
TZOFFSETTO:+0200
TZNAME:CEST
DTSTART:20260329T010000
END:DAYLIGHT
BEGIN:STANDARD
TZOFFSETFROM:+0200
TZOFFSETTO:+0100
TZNAME:CET
DTSTART:20261025T010000
END:STANDARD
END:VTIMEZONE
BEGIN:VEVENT
DTSTART;TZID=Europe/Paris:20260106T190000
DTEND;TZID=Europe/Paris:20260106T203000
DTSTAMP:20260423T211423
CREATED:20250816T111722Z
LAST-MODIFIED:20250816T154503Z
UID:3739-1767726000-1767731400@faburlesque.com
SUMMARY:Cours burlesque hebdo  "Je suis"
DESCRIPTION:Cycle 2 – Ça m’fait une belle jambe 1
URL:https://faburlesque.com/event/cours-burlesque-hebdo-je-suis-10/
LOCATION:Salle Nini Lapointure /Paléficat\, 9 Chemin de Paléficat\, Toulouse\, 31200\, France
CATEGORIES:"Je suis",Cours burlesques hebdo
ATTACH;FMTTYPE=image/jpeg:https://faburlesque.com/wp-content/uploads/2022/05/01-IMG_3275-2-scaled.jpg
ORGANIZER;CN="FAburlesque":MAILTO:contact@faburlesque.com
END:VEVENT
BEGIN:VEVENT
DTSTART;TZID=Europe/Paris:20260106T204500
DTEND;TZID=Europe/Paris:20260106T221500
DTSTAMP:20260423T211423
CREATED:20250816T172848Z
LAST-MODIFIED:20250816T172848Z
UID:3846-1767732300-1767737700@faburlesque.com
SUMMARY:Cours burlesque hebdo  "Je fais"
DESCRIPTION:Cycle 2 – Ça m’fait une belle jambe 1
URL:https://faburlesque.com/event/cours-burlesque-hebdo-je-fais-10/
LOCATION:Salle Nini Lapointure /Paléficat\, 9 Chemin de Paléficat\, Toulouse\, 31200\, France
CATEGORIES:"Je fais",Cours burlesques hebdo
ATTACH;FMTTYPE=image/jpeg:https://faburlesque.com/wp-content/uploads/2022/05/01-IMG_3275-2-scaled.jpg
ORGANIZER;CN="FAburlesque":MAILTO:contact@faburlesque.com
END:VEVENT
BEGIN:VEVENT
DTSTART;TZID=Europe/Paris:20260113T190000
DTEND;TZID=Europe/Paris:20260113T203000
DTSTAMP:20260423T211423
CREATED:20250816T111747Z
LAST-MODIFIED:20250816T154527Z
UID:3741-1768330800-1768336200@faburlesque.com
SUMMARY:Cours burlesque hebdo  "Je suis"
DESCRIPTION:Cycle 2 – Ça m’fait une belle jambe 2
URL:https://faburlesque.com/event/cours-burlesque-hebdo-je-suis-11/
LOCATION:Salle Nini Lapointure /Paléficat\, 9 Chemin de Paléficat\, Toulouse\, 31200\, France
CATEGORIES:"Je suis",Cours burlesques hebdo
ATTACH;FMTTYPE=image/jpeg:https://faburlesque.com/wp-content/uploads/2022/05/01-IMG_3275-2-scaled.jpg
ORGANIZER;CN="FAburlesque":MAILTO:contact@faburlesque.com
END:VEVENT
BEGIN:VEVENT
DTSTART;TZID=Europe/Paris:20260113T204500
DTEND;TZID=Europe/Paris:20260113T221500
DTSTAMP:20260423T211423
CREATED:20250816T172947Z
LAST-MODIFIED:20250816T172947Z
UID:3848-1768337100-1768342500@faburlesque.com
SUMMARY:Cours burlesque hebdo  "Je fais"
DESCRIPTION:Cycle 2 – Ça m’fait une belle jambe 2
URL:https://faburlesque.com/event/cours-burlesque-hebdo-je-fais-11/
LOCATION:Salle Nini Lapointure /Paléficat\, 9 Chemin de Paléficat\, Toulouse\, 31200\, France
CATEGORIES:"Je fais",Cours burlesques hebdo
ATTACH;FMTTYPE=image/jpeg:https://faburlesque.com/wp-content/uploads/2022/05/01-IMG_3275-2-scaled.jpg
ORGANIZER;CN="FAburlesque":MAILTO:contact@faburlesque.com
END:VEVENT
BEGIN:VEVENT
DTSTART;TZID=Europe/Paris:20260120T190000
DTEND;TZID=Europe/Paris:20260120T203000
DTSTAMP:20260423T211423
CREATED:20250816T111812Z
LAST-MODIFIED:20250816T154554Z
UID:3743-1768935600-1768941000@faburlesque.com
SUMMARY:Cours burlesque hebdo  "Je suis"
DESCRIPTION:Cycle 2 – Ça m’fait une belle jambe 3
URL:https://faburlesque.com/event/cours-burlesque-hebdo-je-suis-12/
LOCATION:Salle Nini Lapointure /Paléficat\, 9 Chemin de Paléficat\, Toulouse\, 31200\, France
CATEGORIES:"Je suis",Cours burlesques hebdo
ATTACH;FMTTYPE=image/jpeg:https://faburlesque.com/wp-content/uploads/2022/05/01-IMG_3275-2-scaled.jpg
ORGANIZER;CN="FAburlesque":MAILTO:contact@faburlesque.com
END:VEVENT
BEGIN:VEVENT
DTSTART;TZID=Europe/Paris:20260120T204500
DTEND;TZID=Europe/Paris:20260120T221500
DTSTAMP:20260423T211423
CREATED:20250816T173053Z
LAST-MODIFIED:20250816T173053Z
UID:3850-1768941900-1768947300@faburlesque.com
SUMMARY:Cours burlesque hebdo  "Je fais"
DESCRIPTION:Cycle 2 – Ça m’fait une belle jambe 3
URL:https://faburlesque.com/event/cours-burlesque-hebdo-je-fais-12/
LOCATION:Salle Nini Lapointure /Paléficat\, 9 Chemin de Paléficat\, Toulouse\, 31200\, France
CATEGORIES:"Je fais",Cours burlesques hebdo
ATTACH;FMTTYPE=image/jpeg:https://faburlesque.com/wp-content/uploads/2022/05/01-IMG_3275-2-scaled.jpg
ORGANIZER;CN="FAburlesque":MAILTO:contact@faburlesque.com
END:VEVENT
BEGIN:VEVENT
DTSTART;TZID=Europe/Paris:20260127T190000
DTEND;TZID=Europe/Paris:20260127T221500
DTSTAMP:20260423T211423
CREATED:20250816T175256Z
LAST-MODIFIED:20250816T175256Z
UID:3880-1769540400-1769552100@faburlesque.com
SUMMARY:Cours burlesque hebdo : atelier créatif
DESCRIPTION:Cycle 3 – Montage audio
URL:https://faburlesque.com/event/cours-burlesque-hebdo-atelier-creatif-3/
LOCATION:Salle Nini Lapointure /Paléficat\, 9 Chemin de Paléficat\, Toulouse\, 31200\, France
CATEGORIES:"Je fais","Je suis",Atelier créatif,Cours burlesques hebdo
ATTACH;FMTTYPE=image/jpeg:https://faburlesque.com/wp-content/uploads/2022/05/01-IMG_3275-2-scaled.jpg
ORGANIZER;CN="FAburlesque":MAILTO:contact@faburlesque.com
END:VEVENT
END:VCALENDAR