BEGIN:VCALENDAR
VERSION:2.0
PRODID:-//FAburlesque - ECPv6.14.2//NONSGML v1.0//EN
CALSCALE:GREGORIAN
METHOD:PUBLISH
X-WR-CALNAME:FAburlesque
X-ORIGINAL-URL:https://faburlesque.com
X-WR-CALDESC:Évènements pour FAburlesque
REFRESH-INTERVAL;VALUE=DURATION:PT1H
X-Robots-Tag:noindex
X-PUBLISHED-TTL:PT1H
BEGIN:VTIMEZONE
TZID:Europe/Paris
BEGIN:DAYLIGHT
TZOFFSETFROM:+0100
TZOFFSETTO:+0200
TZNAME:CEST
DTSTART:20260329T010000
END:DAYLIGHT
BEGIN:STANDARD
TZOFFSETFROM:+0200
TZOFFSETTO:+0100
TZNAME:CET
DTSTART:20261025T010000
END:STANDARD
END:VTIMEZONE
BEGIN:VEVENT
DTSTART;TZID=Europe/Paris:20260310T190000
DTEND;TZID=Europe/Paris:20260310T203000
DTSTAMP:20260423T182505
CREATED:20250816T112034Z
LAST-MODIFIED:20250816T154748Z
UID:3751-1773169200-1773174600@faburlesque.com
SUMMARY:Cours burlesque hebdo  "Je suis"
DESCRIPTION:Cycle 3 – À gorge déployée 1
URL:https://faburlesque.com/event/cours-burlesque-hebdo-je-suis-16/
LOCATION:Salle Nini Lapointure /Paléficat\, 9 Chemin de Paléficat\, Toulouse\, 31200\, France
CATEGORIES:"Je suis",Cours burlesques hebdo
ATTACH;FMTTYPE=image/jpeg:https://faburlesque.com/wp-content/uploads/2022/05/01-IMG_3275-2-scaled.jpg
ORGANIZER;CN="FAburlesque":MAILTO:contact@faburlesque.com
END:VEVENT
BEGIN:VEVENT
DTSTART;TZID=Europe/Paris:20260310T204500
DTEND;TZID=Europe/Paris:20260310T221500
DTSTAMP:20260423T182505
CREATED:20250816T173456Z
LAST-MODIFIED:20250816T173456Z
UID:3858-1773175500-1773180900@faburlesque.com
SUMMARY:Cours burlesque hebdo  "Je fais"
DESCRIPTION:Cycle 3 – À gorge déployée 1
URL:https://faburlesque.com/event/cours-burlesque-hebdo-je-fais-16/
LOCATION:Salle Nini Lapointure /Paléficat\, 9 Chemin de Paléficat\, Toulouse\, 31200\, France
CATEGORIES:"Je fais",Cours burlesques hebdo
ATTACH;FMTTYPE=image/jpeg:https://faburlesque.com/wp-content/uploads/2022/05/01-IMG_3275-2-scaled.jpg
ORGANIZER;CN="FAburlesque":MAILTO:contact@faburlesque.com
END:VEVENT
BEGIN:VEVENT
DTSTART;TZID=Europe/Paris:20260317T190000
DTEND;TZID=Europe/Paris:20260317T203000
DTSTAMP:20260423T182505
CREATED:20250816T112056Z
LAST-MODIFIED:20250816T154811Z
UID:3753-1773774000-1773779400@faburlesque.com
SUMMARY:Cours burlesque hebdo  "Je suis"
DESCRIPTION:Cycle 3 – À gorge déployée 2
URL:https://faburlesque.com/event/cours-burlesque-hebdo-je-suis-17/
LOCATION:Salle Nini Lapointure /Paléficat\, 9 Chemin de Paléficat\, Toulouse\, 31200\, France
CATEGORIES:"Je suis",Cours burlesques hebdo
ATTACH;FMTTYPE=image/jpeg:https://faburlesque.com/wp-content/uploads/2022/05/01-IMG_3275-2-scaled.jpg
ORGANIZER;CN="FAburlesque":MAILTO:contact@faburlesque.com
END:VEVENT
BEGIN:VEVENT
DTSTART;TZID=Europe/Paris:20260317T204500
DTEND;TZID=Europe/Paris:20260317T221500
DTSTAMP:20260423T182505
CREATED:20250816T173546Z
LAST-MODIFIED:20250816T173546Z
UID:3860-1773780300-1773785700@faburlesque.com
SUMMARY:Cours burlesque hebdo  "Je fais"
DESCRIPTION:Cycle 3 – À gorge déployée 2
URL:https://faburlesque.com/event/cours-burlesque-hebdo-je-fais-17/
LOCATION:Salle Nini Lapointure /Paléficat\, 9 Chemin de Paléficat\, Toulouse\, 31200\, France
CATEGORIES:"Je fais",Cours burlesques hebdo
ATTACH;FMTTYPE=image/jpeg:https://faburlesque.com/wp-content/uploads/2022/05/01-IMG_3275-2-scaled.jpg
ORGANIZER;CN="FAburlesque":MAILTO:contact@faburlesque.com
END:VEVENT
BEGIN:VEVENT
DTSTART;TZID=Europe/Paris:20260324T190000
DTEND;TZID=Europe/Paris:20260324T203000
DTSTAMP:20260423T182505
CREATED:20250816T112129Z
LAST-MODIFIED:20250816T154844Z
UID:3755-1774378800-1774384200@faburlesque.com
SUMMARY:Cours burlesque hebdo  "Je suis"
DESCRIPTION:Cycle 3 – À gorge déployée 3
URL:https://faburlesque.com/event/cours-burlesque-hebdo-je-suis-18/
LOCATION:Salle Nini Lapointure /Paléficat\, 9 Chemin de Paléficat\, Toulouse\, 31200\, France
CATEGORIES:"Je suis",Cours burlesques hebdo
ATTACH;FMTTYPE=image/jpeg:https://faburlesque.com/wp-content/uploads/2022/05/01-IMG_3275-2-scaled.jpg
ORGANIZER;CN="FAburlesque":MAILTO:contact@faburlesque.com
END:VEVENT
BEGIN:VEVENT
DTSTART;TZID=Europe/Paris:20260324T204500
DTEND;TZID=Europe/Paris:20260324T221500
DTSTAMP:20260423T182505
CREATED:20250816T173651Z
LAST-MODIFIED:20250816T173651Z
UID:3862-1774385100-1774390500@faburlesque.com
SUMMARY:Cours burlesque hebdo  "Je fais"
DESCRIPTION:Cycle 3 – À gorge déployée 3
URL:https://faburlesque.com/event/cours-burlesque-hebdo-je-fais-18/
LOCATION:Salle Nini Lapointure /Paléficat\, 9 Chemin de Paléficat\, Toulouse\, 31200\, France
CATEGORIES:"Je fais",Cours burlesques hebdo
ATTACH;FMTTYPE=image/jpeg:https://faburlesque.com/wp-content/uploads/2022/05/01-IMG_3275-2-scaled.jpg
ORGANIZER;CN="FAburlesque":MAILTO:contact@faburlesque.com
END:VEVENT
BEGIN:VEVENT
DTSTART;TZID=Europe/Paris:20260331T190000
DTEND;TZID=Europe/Paris:20260331T203000
DTSTAMP:20260423T182505
CREATED:20250816T112225Z
LAST-MODIFIED:20250816T154909Z
UID:3757-1774983600-1774989000@faburlesque.com
SUMMARY:Cours burlesque hebdo  "Je suis"
DESCRIPTION:Cycle 4 – Chute de rein 1
URL:https://faburlesque.com/event/cours-burlesque-hebdo-je-suis-19/
LOCATION:Salle Nini Lapointure /Paléficat\, 9 Chemin de Paléficat\, Toulouse\, 31200\, France
CATEGORIES:"Je suis",Cours burlesques hebdo
ATTACH;FMTTYPE=image/jpeg:https://faburlesque.com/wp-content/uploads/2022/05/01-IMG_3275-2-scaled.jpg
ORGANIZER;CN="FAburlesque":MAILTO:contact@faburlesque.com
END:VEVENT
BEGIN:VEVENT
DTSTART;TZID=Europe/Paris:20260331T204500
DTEND;TZID=Europe/Paris:20260331T221500
DTSTAMP:20260423T182505
CREATED:20250816T173815Z
LAST-MODIFIED:20250816T173815Z
UID:3864-1774989900-1774995300@faburlesque.com
SUMMARY:Cours burlesque hebdo  "Je fais"
DESCRIPTION:Cycle 4 – Chute de rein 1
URL:https://faburlesque.com/event/cours-burlesque-hebdo-je-fais-19/
LOCATION:Salle Nini Lapointure /Paléficat\, 9 Chemin de Paléficat\, Toulouse\, 31200\, France
CATEGORIES:"Je fais",Cours burlesques hebdo
ATTACH;FMTTYPE=image/jpeg:https://faburlesque.com/wp-content/uploads/2022/05/01-IMG_3275-2-scaled.jpg
ORGANIZER;CN="FAburlesque":MAILTO:contact@faburlesque.com
END:VEVENT
END:VCALENDAR