BEGIN:VCALENDAR
VERSION:2.0
PRODID:-//FAburlesque - ECPv6.14.2//NONSGML v1.0//EN
CALSCALE:GREGORIAN
METHOD:PUBLISH
X-WR-CALNAME:FAburlesque
X-ORIGINAL-URL:https://faburlesque.com
X-WR-CALDESC:Évènements pour FAburlesque
REFRESH-INTERVAL;VALUE=DURATION:PT1H
X-Robots-Tag:noindex
X-PUBLISHED-TTL:PT1H
BEGIN:VTIMEZONE
TZID:Europe/Paris
BEGIN:DAYLIGHT
TZOFFSETFROM:+0100
TZOFFSETTO:+0200
TZNAME:CEST
DTSTART:20260329T010000
END:DAYLIGHT
BEGIN:STANDARD
TZOFFSETFROM:+0200
TZOFFSETTO:+0100
TZNAME:CET
DTSTART:20261025T010000
END:STANDARD
END:VTIMEZONE
BEGIN:VEVENT
DTSTART;TZID=Europe/Paris:20260602T190000
DTEND;TZID=Europe/Paris:20260602T221500
DTSTAMP:20260423T194859
CREATED:20250816T203509Z
LAST-MODIFIED:20250816T203509Z
UID:4005-1780426800-1780438500@faburlesque.com
SUMMARY:Coachings gala
DESCRIPTION:Coachings individuels pour les élèves des cours burlesques hebdo participant au gala
URL:https://faburlesque.com/event/coachings-gala/
LOCATION:Salle Nini Lapointure /Paléficat\, 9 Chemin de Paléficat\, Toulouse\, 31200\, France
CATEGORIES:"Je fais","Je suis",Coachings gala,Cours burlesques hebdo,Gala
ATTACH;FMTTYPE=image/jpeg:https://faburlesque.com/wp-content/uploads/2023/07/LOVE-ETC-2-PRESENTATIONS-Photos-DAVID-TORRES-2-AVRIL-2023-9-scaled.jpg
ORGANIZER;CN="FAburlesque":MAILTO:contact@faburlesque.com
END:VEVENT
BEGIN:VEVENT
DTSTART;TZID=Europe/Paris:20260604T200000
DTEND;TZID=Europe/Paris:20260604T220000
DTSTAMP:20260423T194859
CREATED:20250816T201700Z
LAST-MODIFIED:20250816T201700Z
UID:3988-1780603200-1780610400@faburlesque.com
SUMMARY:Préparation gala
DESCRIPTION:Répétitions libres pour toustes les élèves participant au gala
URL:https://faburlesque.com/event/preparation-gala/
LOCATION:salle Lafage danse\, 2 Rue Lafage\, Toulouse\, 31300\, France
CATEGORIES:"Je fais","Je suis",2e année,Gala,Préparation gala
ATTACH;FMTTYPE=image/jpeg:https://faburlesque.com/wp-content/uploads/2023/07/LOVE-ETC-2-PRESENTATIONS-Photos-DAVID-TORRES-2-AVRIL-2023-9-scaled.jpg
ORGANIZER;CN="FAburlesque":MAILTO:contact@faburlesque.com
END:VEVENT
BEGIN:VEVENT
DTSTART;TZID=Europe/Paris:20260609T190000
DTEND;TZID=Europe/Paris:20260609T221500
DTSTAMP:20260423T194859
CREATED:20250816T203544Z
LAST-MODIFIED:20250816T203544Z
UID:4007-1781031600-1781043300@faburlesque.com
SUMMARY:Coachings gala
DESCRIPTION:Coachings individuels pour les élèves des cours burlesques hebdo participant au gala
URL:https://faburlesque.com/event/coachings-gala-2/
LOCATION:Salle Nini Lapointure /Paléficat\, 9 Chemin de Paléficat\, Toulouse\, 31200\, France
CATEGORIES:"Je fais","Je suis",Coachings gala,Cours burlesques hebdo,Gala
ATTACH;FMTTYPE=image/jpeg:https://faburlesque.com/wp-content/uploads/2023/07/LOVE-ETC-2-PRESENTATIONS-Photos-DAVID-TORRES-2-AVRIL-2023-9-scaled.jpg
ORGANIZER;CN="FAburlesque":MAILTO:contact@faburlesque.com
END:VEVENT
BEGIN:VEVENT
DTSTART;TZID=Europe/Paris:20260611T200000
DTEND;TZID=Europe/Paris:20260611T220000
DTSTAMP:20260423T194859
CREATED:20250816T201733Z
LAST-MODIFIED:20250816T201733Z
UID:3990-1781208000-1781215200@faburlesque.com
SUMMARY:Préparation gala
DESCRIPTION:Répétitions libres pour toustes les élèves participant au gala
URL:https://faburlesque.com/event/preparation-gala-2/
LOCATION:salle Lafage danse\, 2 Rue Lafage\, Toulouse\, 31300\, France
CATEGORIES:"Je fais","Je suis",2e année,Gala,Préparation gala
ATTACH;FMTTYPE=image/jpeg:https://faburlesque.com/wp-content/uploads/2023/07/LOVE-ETC-2-PRESENTATIONS-Photos-DAVID-TORRES-2-AVRIL-2023-9-scaled.jpg
ORGANIZER;CN="FAburlesque":MAILTO:contact@faburlesque.com
END:VEVENT
BEGIN:VEVENT
DTSTART;TZID=Europe/Paris:20260616T190000
DTEND;TZID=Europe/Paris:20260616T221500
DTSTAMP:20260423T194859
CREATED:20250816T203620Z
LAST-MODIFIED:20250816T203620Z
UID:4009-1781636400-1781648100@faburlesque.com
SUMMARY:Coachings gala
DESCRIPTION:Coachings individuels pour les élèves des cours burlesques hebdo participant au gala
URL:https://faburlesque.com/event/coachings-gala-3/
LOCATION:Salle Nini Lapointure /Paléficat\, 9 Chemin de Paléficat\, Toulouse\, 31200\, France
CATEGORIES:"Je fais","Je suis",Coachings gala,Cours burlesques hebdo,Gala
ATTACH;FMTTYPE=image/jpeg:https://faburlesque.com/wp-content/uploads/2023/07/LOVE-ETC-2-PRESENTATIONS-Photos-DAVID-TORRES-2-AVRIL-2023-9-scaled.jpg
ORGANIZER;CN="FAburlesque":MAILTO:contact@faburlesque.com
END:VEVENT
BEGIN:VEVENT
DTSTART;TZID=Europe/Paris:20260618T200000
DTEND;TZID=Europe/Paris:20260618T220000
DTSTAMP:20260423T194859
CREATED:20250816T201757Z
LAST-MODIFIED:20250816T201757Z
UID:3992-1781812800-1781820000@faburlesque.com
SUMMARY:Préparation gala
DESCRIPTION:Répétitions libres pour toustes les élèves participant au gala
URL:https://faburlesque.com/event/preparation-gala-3/
LOCATION:salle Lafage danse\, 2 Rue Lafage\, Toulouse\, 31300\, France
CATEGORIES:"Je fais","Je suis",2e année,Gala,Préparation gala
ATTACH;FMTTYPE=image/jpeg:https://faburlesque.com/wp-content/uploads/2023/07/LOVE-ETC-2-PRESENTATIONS-Photos-DAVID-TORRES-2-AVRIL-2023-9-scaled.jpg
ORGANIZER;CN="FAburlesque":MAILTO:contact@faburlesque.com
END:VEVENT
BEGIN:VEVENT
DTSTART;TZID=Europe/Paris:20260623T190000
DTEND;TZID=Europe/Paris:20260623T221500
DTSTAMP:20260423T194859
CREATED:20250816T203646Z
LAST-MODIFIED:20250816T203646Z
UID:4011-1782241200-1782252900@faburlesque.com
SUMMARY:Coachings gala
DESCRIPTION:Coachings individuels pour les élèves des cours burlesques hebdo participant au gala
URL:https://faburlesque.com/event/coachings-gala-4/
LOCATION:Salle Nini Lapointure /Paléficat\, 9 Chemin de Paléficat\, Toulouse\, 31200\, France
CATEGORIES:"Je fais","Je suis",Coachings gala,Cours burlesques hebdo,Gala
ATTACH;FMTTYPE=image/jpeg:https://faburlesque.com/wp-content/uploads/2023/07/LOVE-ETC-2-PRESENTATIONS-Photos-DAVID-TORRES-2-AVRIL-2023-9-scaled.jpg
ORGANIZER;CN="FAburlesque":MAILTO:contact@faburlesque.com
END:VEVENT
BEGIN:VEVENT
DTSTART;TZID=Europe/Paris:20260625T200000
DTEND;TZID=Europe/Paris:20260625T220000
DTSTAMP:20260423T194859
CREATED:20250816T201834Z
LAST-MODIFIED:20250816T201834Z
UID:3994-1782417600-1782424800@faburlesque.com
SUMMARY:Préparation gala
DESCRIPTION:Répétitions libres pour toustes les élèves participant au gala
URL:https://faburlesque.com/event/preparation-gala-4/
LOCATION:salle Lafage danse\, 2 Rue Lafage\, Toulouse\, 31300\, France
CATEGORIES:"Je fais","Je suis",2e année,Gala,Préparation gala
ATTACH;FMTTYPE=image/jpeg:https://faburlesque.com/wp-content/uploads/2023/07/LOVE-ETC-2-PRESENTATIONS-Photos-DAVID-TORRES-2-AVRIL-2023-9-scaled.jpg
ORGANIZER;CN="FAburlesque":MAILTO:contact@faburlesque.com
END:VEVENT
END:VCALENDAR