BEGIN:VCALENDAR
VERSION:2.0
PRODID:-//FAburlesque - ECPv6.14.2//NONSGML v1.0//EN
CALSCALE:GREGORIAN
METHOD:PUBLISH
X-WR-CALNAME:FAburlesque
X-ORIGINAL-URL:https://faburlesque.com
X-WR-CALDESC:Évènements pour FAburlesque
REFRESH-INTERVAL;VALUE=DURATION:PT1H
X-Robots-Tag:noindex
X-PUBLISHED-TTL:PT1H
BEGIN:VTIMEZONE
TZID:Europe/Paris
BEGIN:DAYLIGHT
TZOFFSETFROM:+0100
TZOFFSETTO:+0200
TZNAME:CEST
DTSTART:20250330T010000
END:DAYLIGHT
BEGIN:STANDARD
TZOFFSETFROM:+0200
TZOFFSETTO:+0100
TZNAME:CET
DTSTART:20251026T010000
END:STANDARD
END:VTIMEZONE
BEGIN:VEVENT
DTSTART;TZID=Europe/Paris:20251130T181500
DTEND;TZID=Europe/Paris:20251130T210000
DTSTAMP:20260422T015759
CREATED:20250816T210237Z
LAST-MODIFIED:20250816T211306Z
UID:4032-1764526500-1764536400@faburlesque.com
SUMMARY:Scène ouverte "Freak Show"
DESCRIPTION:Bienvenue dans notre Freak Show où de surprenantes créatures dévoilent leurs nombreux talents ! \n  \nCôté public : 12€ \nMerci d’arriver 45 minutes avant le début du spectacle.\nPrenez le temps de boire un verre ou de savourer un panier apéro (à précommander)\ndans une ambiance conviviale avant de plonger dans l’univers du spectacle. \n____ \nCôté programmation :\n– priorité aux élèves et aux stagiaires de FAburlesque\n– restitution du travail du Chœur burlesque et du Burlesque musical\n– artistes extérieur·e·s bienvenu·e·s sur candidature et selon les places disponibles
URL:https://faburlesque.com/event/scene-ouverte-freak-show/
LOCATION:Le Citron Bleu\, 18 Rue des Paradoux\, Toulouse\, 31000\, France
CATEGORIES:Scène ouverte
ATTACH;FMTTYPE=image/jpeg:https://faburlesque.com/wp-content/uploads/2025/08/Affiche-Freak-Show-scaled.jpg
ORGANIZER;CN="FAburlesque":MAILTO:contact@faburlesque.com
END:VEVENT
END:VCALENDAR