BEGIN:VCALENDAR
VERSION:2.0
PRODID:-//FAburlesque - ECPv6.14.2//NONSGML v1.0//EN
CALSCALE:GREGORIAN
METHOD:PUBLISH
X-ORIGINAL-URL:https://faburlesque.com
X-WR-CALDESC:Évènements pour FAburlesque
REFRESH-INTERVAL;VALUE=DURATION:PT1H
X-Robots-Tag:noindex
X-PUBLISHED-TTL:PT1H
BEGIN:VTIMEZONE
TZID:Europe/Paris
BEGIN:DAYLIGHT
TZOFFSETFROM:+0100
TZOFFSETTO:+0200
TZNAME:CEST
DTSTART:20260329T010000
END:DAYLIGHT
BEGIN:STANDARD
TZOFFSETFROM:+0200
TZOFFSETTO:+0100
TZNAME:CET
DTSTART:20261025T010000
END:STANDARD
END:VTIMEZONE
BEGIN:VEVENT
DTSTART;TZID=Europe/Paris:20260419T140000
DTEND;TZID=Europe/Paris:20260419T213000
DTSTAMP:20260423T165048
CREATED:20250816T205141Z
LAST-MODIFIED:20250816T205141Z
UID:4025-1776607200-1776634200@faburlesque.com
SUMMARY:Stage "Milky FAburlesque"
DESCRIPTION:Stage galactique \n– un atelier voix par Nini\n– un atelier maquillage par Camille Nuage\n– une chorégraphie avec effeuillage par Zephyr et Nini\n– la réalisation d’un clip combinant tous ces éléments \npossibilité de restitution à la scène ouverte « Aux confins de la galaxie » le 24/05/26 au Citron Bleu
URL:https://faburlesque.com/event/stage-milky-faburlesque/
LOCATION:Studio « Les ateliers Sarah Boy »\, 20 Rue Louis Eydoux\, Toulouse\, 31400\, France
CATEGORIES:Stage
ATTACH;FMTTYPE=image/jpeg:https://faburlesque.com/wp-content/uploads/2025/08/Affiche-Milky-scaled.jpg
ORGANIZER;CN="FAburlesque":MAILTO:contact@faburlesque.com
END:VEVENT
BEGIN:VEVENT
DTSTART;TZID=Europe/Paris:20260416T200000
DTEND;TZID=Europe/Paris:20260416T213000
DTSTAMP:20260423T165048
CREATED:20250816T185704Z
LAST-MODIFIED:20250816T185704Z
UID:3952-1776369600-1776375000@faburlesque.com
SUMMARY:2e année
DESCRIPTION:Cycle 4 – L’OBJET de mes désirs 2
URL:https://faburlesque.com/event/2e-annee-14/
LOCATION:salle Lafage danse\, 2 Rue Lafage\, Toulouse\, 31300\, France
CATEGORIES:2e année,Cours
ATTACH;FMTTYPE=image/jpeg:https://faburlesque.com/wp-content/uploads/2023/07/123143539_10222760474462360_106654747560542742_o.jpg
ORGANIZER;CN="FAburlesque":MAILTO:contact@faburlesque.com
END:VEVENT
BEGIN:VEVENT
DTSTART;TZID=Europe/Paris:20260414T204500
DTEND;TZID=Europe/Paris:20260414T221500
DTSTAMP:20260423T165048
CREATED:20250816T174120Z
LAST-MODIFIED:20250816T174120Z
UID:3868-1776199500-1776204900@faburlesque.com
SUMMARY:Cours burlesque hebdo  "Je fais"
DESCRIPTION:Cycle 4 – Chute de rein 3
URL:https://faburlesque.com/event/cours-burlesque-hebdo-je-fais-21/
LOCATION:Salle Nini Lapointure /Paléficat\, 9 Chemin de Paléficat\, Toulouse\, 31200\, France
CATEGORIES:"Je fais",Cours burlesques hebdo
ATTACH;FMTTYPE=image/jpeg:https://faburlesque.com/wp-content/uploads/2022/05/01-IMG_3275-2-scaled.jpg
ORGANIZER;CN="FAburlesque":MAILTO:contact@faburlesque.com
END:VEVENT
BEGIN:VEVENT
DTSTART;TZID=Europe/Paris:20260414T190000
DTEND;TZID=Europe/Paris:20260414T203000
DTSTAMP:20260423T165048
CREATED:20250816T112318Z
LAST-MODIFIED:20250816T155012Z
UID:3761-1776193200-1776198600@faburlesque.com
SUMMARY:Cours burlesque hebdo  "Je suis"
DESCRIPTION:Cycle 4 – Chute de rein 3
URL:https://faburlesque.com/event/cours-burlesque-hebdo-je-suis-21/
LOCATION:Salle Nini Lapointure /Paléficat\, 9 Chemin de Paléficat\, Toulouse\, 31200\, France
CATEGORIES:"Je suis",Cours burlesques hebdo
ATTACH;FMTTYPE=image/jpeg:https://faburlesque.com/wp-content/uploads/2022/05/01-IMG_3275-2-scaled.jpg
ORGANIZER;CN="FAburlesque":MAILTO:contact@faburlesque.com
END:VEVENT
BEGIN:VEVENT
DTSTART;TZID=Europe/Paris:20260412T150000
DTEND;TZID=Europe/Paris:20260412T180000
DTSTAMP:20260423T165048
CREATED:20250816T181402Z
LAST-MODIFIED:20250816T213430Z
UID:3905-1776006000-1776016800@faburlesque.com
SUMMARY:Chœur burlesque
DESCRIPTION:Cycle 4 – Aux confins de la galaxie 1
URL:https://faburlesque.com/event/choeur-burlesque-10/
LOCATION:Salle Nini Lapointure /Paléficat\, 9 Chemin de Paléficat\, Toulouse\, 31200\, France
CATEGORIES:Chœur burlesque,Cours
ATTACH;FMTTYPE=image/jpeg:https://faburlesque.com/wp-content/uploads/2022/05/DSC05858RS-WEB-scaled.jpg
ORGANIZER;CN="FAburlesque":MAILTO:contact@faburlesque.com
END:VEVENT
BEGIN:VEVENT
DTSTART;TZID=Europe/Paris:20260409T200000
DTEND;TZID=Europe/Paris:20260409T220000
DTSTAMP:20260423T165048
CREATED:20250816T182934Z
LAST-MODIFIED:20250816T183457Z
UID:3919-1775764800-1775772000@faburlesque.com
SUMMARY:Impro burlesque
DESCRIPTION:Cycle 2 – Perfectionnement 2\n(boa / cravate)
URL:https://faburlesque.com/event/impro-burlesque-5/
LOCATION:salle Lafage danse\, 2 Rue Lafage\, Toulouse\, 31300\, France
CATEGORIES:Cours,Impro burlesque
ATTACH;FMTTYPE=image/jpeg:https://faburlesque.com/wp-content/uploads/2025/08/GALA-FABURLESQUE-Jeudi-26-juin-2025-photos-TRAN-PHAT-133-scaled.jpg
ORGANIZER;CN="FAburlesque":MAILTO:contact@faburlesque.com
END:VEVENT
BEGIN:VEVENT
DTSTART;TZID=Europe/Paris:20260407T204500
DTEND;TZID=Europe/Paris:20260407T221500
DTSTAMP:20260423T165048
CREATED:20250816T173923Z
LAST-MODIFIED:20250816T173923Z
UID:3866-1775594700-1775600100@faburlesque.com
SUMMARY:Cours burlesque hebdo  "Je fais"
DESCRIPTION:Cycle 4 – Chute de rein 2
URL:https://faburlesque.com/event/cours-burlesque-hebdo-je-fais-20/
LOCATION:Salle Nini Lapointure /Paléficat\, 9 Chemin de Paléficat\, Toulouse\, 31200\, France
CATEGORIES:"Je fais",Cours burlesques hebdo
ATTACH;FMTTYPE=image/jpeg:https://faburlesque.com/wp-content/uploads/2022/05/01-IMG_3275-2-scaled.jpg
ORGANIZER;CN="FAburlesque":MAILTO:contact@faburlesque.com
END:VEVENT
BEGIN:VEVENT
DTSTART;TZID=Europe/Paris:20260407T190000
DTEND;TZID=Europe/Paris:20260407T203000
DTSTAMP:20260423T165048
CREATED:20250816T112250Z
LAST-MODIFIED:20250816T154936Z
UID:3759-1775588400-1775593800@faburlesque.com
SUMMARY:Cours burlesque hebdo  "Je suis"
DESCRIPTION:Cycle 4 – Chute de rein 2
URL:https://faburlesque.com/event/cours-burlesque-hebdo-je-suis-20/
LOCATION:Salle Nini Lapointure /Paléficat\, 9 Chemin de Paléficat\, Toulouse\, 31200\, France
CATEGORIES:"Je suis",Cours burlesques hebdo
ATTACH;FMTTYPE=image/jpeg:https://faburlesque.com/wp-content/uploads/2022/05/01-IMG_3275-2-scaled.jpg
ORGANIZER;CN="FAburlesque":MAILTO:contact@faburlesque.com
END:VEVENT
BEGIN:VEVENT
DTSTART;TZID=Europe/Paris:20260402T200000
DTEND;TZID=Europe/Paris:20260402T213000
DTSTAMP:20260423T165048
CREATED:20250816T185600Z
LAST-MODIFIED:20250816T185600Z
UID:3950-1775160000-1775165400@faburlesque.com
SUMMARY:2e année
DESCRIPTION:Cycle 4 – L’OBJET de mes désirs 1
URL:https://faburlesque.com/event/2e-annee-13/
LOCATION:salle Lafage danse\, 2 Rue Lafage\, Toulouse\, 31300\, France
CATEGORIES:2e année,Cours
ATTACH;FMTTYPE=image/jpeg:https://faburlesque.com/wp-content/uploads/2023/07/123143539_10222760474462360_106654747560542742_o.jpg
ORGANIZER;CN="FAburlesque":MAILTO:contact@faburlesque.com
END:VEVENT
BEGIN:VEVENT
DTSTART;TZID=Europe/Paris:20260331T204500
DTEND;TZID=Europe/Paris:20260331T221500
DTSTAMP:20260423T165048
CREATED:20250816T173815Z
LAST-MODIFIED:20250816T173815Z
UID:3864-1774989900-1774995300@faburlesque.com
SUMMARY:Cours burlesque hebdo  "Je fais"
DESCRIPTION:Cycle 4 – Chute de rein 1
URL:https://faburlesque.com/event/cours-burlesque-hebdo-je-fais-19/
LOCATION:Salle Nini Lapointure /Paléficat\, 9 Chemin de Paléficat\, Toulouse\, 31200\, France
CATEGORIES:"Je fais",Cours burlesques hebdo
ATTACH;FMTTYPE=image/jpeg:https://faburlesque.com/wp-content/uploads/2022/05/01-IMG_3275-2-scaled.jpg
ORGANIZER;CN="FAburlesque":MAILTO:contact@faburlesque.com
END:VEVENT
BEGIN:VEVENT
DTSTART;TZID=Europe/Paris:20260331T190000
DTEND;TZID=Europe/Paris:20260331T203000
DTSTAMP:20260423T165048
CREATED:20250816T112225Z
LAST-MODIFIED:20250816T154909Z
UID:3757-1774983600-1774989000@faburlesque.com
SUMMARY:Cours burlesque hebdo  "Je suis"
DESCRIPTION:Cycle 4 – Chute de rein 1
URL:https://faburlesque.com/event/cours-burlesque-hebdo-je-suis-19/
LOCATION:Salle Nini Lapointure /Paléficat\, 9 Chemin de Paléficat\, Toulouse\, 31200\, France
CATEGORIES:"Je suis",Cours burlesques hebdo
ATTACH;FMTTYPE=image/jpeg:https://faburlesque.com/wp-content/uploads/2022/05/01-IMG_3275-2-scaled.jpg
ORGANIZER;CN="FAburlesque":MAILTO:contact@faburlesque.com
END:VEVENT
BEGIN:VEVENT
DTSTART;TZID=Europe/Paris:20260329T181500
DTEND;TZID=Europe/Paris:20260329T210000
DTSTAMP:20260423T165048
CREATED:20250816T211148Z
LAST-MODIFIED:20250816T211235Z
UID:4038-1774808100-1774818000@faburlesque.com
SUMMARY:Scène ouverte "Petit et grand écrans"
DESCRIPTION:Revivez les meilleurs (ou les pires) moments de la télé et du cinéma ! \n  \nCôté public : 12€ \nMerci d’arriver 45 minutes avant le début du spectacle.\nPrenez le temps de boire un verre ou de savourer un panier apéro (à précommander)\ndans une ambiance conviviale avant de plonger dans l’univers du spectacle. \n____ \nCôté programmation :\n– priorité aux élèves et aux stagiaires de FAburlesque\n– restitution du travail du Chœur burlesque et du Burlesque musical\n– artistes extérieur·e·s bienvenu·e·s sur candidature et selon les places disponibles
URL:https://faburlesque.com/event/scene-ouverte-petit-et-grand-ecrans/
LOCATION:Le Citron Bleu\, 18 Rue des Paradoux\, Toulouse\, 31000\, France
CATEGORIES:Scène ouverte
ATTACH;FMTTYPE=image/jpeg:https://faburlesque.com/wp-content/uploads/2025/08/Affiche-Petit-et-grand-ecrans-scaled.jpg
ORGANIZER;CN="FAburlesque":MAILTO:contact@faburlesque.com
END:VEVENT
BEGIN:VEVENT
DTSTART;TZID=Europe/Paris:20260326T200000
DTEND;TZID=Europe/Paris:20260326T220000
DTSTAMP:20260423T165048
CREATED:20250816T200451Z
LAST-MODIFIED:20250816T200451Z
UID:3980-1774555200-1774562400@faburlesque.com
SUMMARY:Burlesque musical
DESCRIPTION:Cycle 3 – Petit et grand écrans 3
URL:https://faburlesque.com/event/burlesque-musical-9/
LOCATION:salle Lafage danse\, 2 Rue Lafage\, Toulouse\, 31300\, France
CATEGORIES:Burlesque musical,Cours
ATTACH;FMTTYPE=image/jpeg:https://faburlesque.com/wp-content/uploads/2024/05/10-12-par-Melissa-Loubet-scaled.jpg
ORGANIZER;CN="FAburlesque":MAILTO:contact@faburlesque.com
END:VEVENT
BEGIN:VEVENT
DTSTART;TZID=Europe/Paris:20260324T204500
DTEND;TZID=Europe/Paris:20260324T221500
DTSTAMP:20260423T165048
CREATED:20250816T173651Z
LAST-MODIFIED:20250816T173651Z
UID:3862-1774385100-1774390500@faburlesque.com
SUMMARY:Cours burlesque hebdo  "Je fais"
DESCRIPTION:Cycle 3 – À gorge déployée 3
URL:https://faburlesque.com/event/cours-burlesque-hebdo-je-fais-18/
LOCATION:Salle Nini Lapointure /Paléficat\, 9 Chemin de Paléficat\, Toulouse\, 31200\, France
CATEGORIES:"Je fais",Cours burlesques hebdo
ATTACH;FMTTYPE=image/jpeg:https://faburlesque.com/wp-content/uploads/2022/05/01-IMG_3275-2-scaled.jpg
ORGANIZER;CN="FAburlesque":MAILTO:contact@faburlesque.com
END:VEVENT
BEGIN:VEVENT
DTSTART;TZID=Europe/Paris:20260324T190000
DTEND;TZID=Europe/Paris:20260324T203000
DTSTAMP:20260423T165048
CREATED:20250816T112129Z
LAST-MODIFIED:20250816T154844Z
UID:3755-1774378800-1774384200@faburlesque.com
SUMMARY:Cours burlesque hebdo  "Je suis"
DESCRIPTION:Cycle 3 – À gorge déployée 3
URL:https://faburlesque.com/event/cours-burlesque-hebdo-je-suis-18/
LOCATION:Salle Nini Lapointure /Paléficat\, 9 Chemin de Paléficat\, Toulouse\, 31200\, France
CATEGORIES:"Je suis",Cours burlesques hebdo
ATTACH;FMTTYPE=image/jpeg:https://faburlesque.com/wp-content/uploads/2022/05/01-IMG_3275-2-scaled.jpg
ORGANIZER;CN="FAburlesque":MAILTO:contact@faburlesque.com
END:VEVENT
BEGIN:VEVENT
DTSTART;TZID=Europe/Paris:20260322T150000
DTEND;TZID=Europe/Paris:20260322T170000
DTSTAMP:20260423T165048
CREATED:20250816T181317Z
LAST-MODIFIED:20250816T181317Z
UID:3903-1774191600-1774198800@faburlesque.com
SUMMARY:Chœur burlesque
DESCRIPTION:Cycle 3 – Petit et grand écrans 3
URL:https://faburlesque.com/event/choeur-burlesque-9/
LOCATION:Salle Nini Lapointure /Paléficat\, 9 Chemin de Paléficat\, Toulouse\, 31200\, France
CATEGORIES:Chœur burlesque,Cours
ATTACH;FMTTYPE=image/jpeg:https://faburlesque.com/wp-content/uploads/2022/05/DSC05858RS-WEB-scaled.jpg
ORGANIZER;CN="FAburlesque":MAILTO:contact@faburlesque.com
END:VEVENT
BEGIN:VEVENT
DTSTART;TZID=Europe/Paris:20260319T200000
DTEND;TZID=Europe/Paris:20260319T220000
DTSTAMP:20260423T165048
CREATED:20250816T200419Z
LAST-MODIFIED:20250816T200419Z
UID:3978-1773950400-1773957600@faburlesque.com
SUMMARY:Burlesque musical
DESCRIPTION:Cycle 3 – Petit et grand écrans 2
URL:https://faburlesque.com/event/burlesque-musical-8/
LOCATION:salle Lafage danse\, 2 Rue Lafage\, Toulouse\, 31300\, France
CATEGORIES:Burlesque musical,Cours
ATTACH;FMTTYPE=image/jpeg:https://faburlesque.com/wp-content/uploads/2024/05/10-12-par-Melissa-Loubet-scaled.jpg
ORGANIZER;CN="FAburlesque":MAILTO:contact@faburlesque.com
END:VEVENT
BEGIN:VEVENT
DTSTART;TZID=Europe/Paris:20260317T204500
DTEND;TZID=Europe/Paris:20260317T221500
DTSTAMP:20260423T165048
CREATED:20250816T173546Z
LAST-MODIFIED:20250816T173546Z
UID:3860-1773780300-1773785700@faburlesque.com
SUMMARY:Cours burlesque hebdo  "Je fais"
DESCRIPTION:Cycle 3 – À gorge déployée 2
URL:https://faburlesque.com/event/cours-burlesque-hebdo-je-fais-17/
LOCATION:Salle Nini Lapointure /Paléficat\, 9 Chemin de Paléficat\, Toulouse\, 31200\, France
CATEGORIES:"Je fais",Cours burlesques hebdo
ATTACH;FMTTYPE=image/jpeg:https://faburlesque.com/wp-content/uploads/2022/05/01-IMG_3275-2-scaled.jpg
ORGANIZER;CN="FAburlesque":MAILTO:contact@faburlesque.com
END:VEVENT
BEGIN:VEVENT
DTSTART;TZID=Europe/Paris:20260317T190000
DTEND;TZID=Europe/Paris:20260317T203000
DTSTAMP:20260423T165048
CREATED:20250816T112056Z
LAST-MODIFIED:20250816T154811Z
UID:3753-1773774000-1773779400@faburlesque.com
SUMMARY:Cours burlesque hebdo  "Je suis"
DESCRIPTION:Cycle 3 – À gorge déployée 2
URL:https://faburlesque.com/event/cours-burlesque-hebdo-je-suis-17/
LOCATION:Salle Nini Lapointure /Paléficat\, 9 Chemin de Paléficat\, Toulouse\, 31200\, France
CATEGORIES:"Je suis",Cours burlesques hebdo
ATTACH;FMTTYPE=image/jpeg:https://faburlesque.com/wp-content/uploads/2022/05/01-IMG_3275-2-scaled.jpg
ORGANIZER;CN="FAburlesque":MAILTO:contact@faburlesque.com
END:VEVENT
BEGIN:VEVENT
DTSTART;TZID=Europe/Paris:20260312T200000
DTEND;TZID=Europe/Paris:20260312T220000
DTSTAMP:20260423T165048
CREATED:20250816T182755Z
LAST-MODIFIED:20250816T183441Z
UID:3917-1773345600-1773352800@faburlesque.com
SUMMARY:Impro burlesque
DESCRIPTION:Cycle 2 – Perfectionnement 1\n(bas / porte-jarretelles / chaussures)
URL:https://faburlesque.com/event/impro-burlesque-4/
LOCATION:salle Lafage danse\, 2 Rue Lafage\, Toulouse\, 31300\, France
CATEGORIES:Cours,Impro burlesque
ATTACH;FMTTYPE=image/jpeg:https://faburlesque.com/wp-content/uploads/2025/08/GALA-FABURLESQUE-Jeudi-26-juin-2025-photos-TRAN-PHAT-133-scaled.jpg
ORGANIZER;CN="FAburlesque":MAILTO:contact@faburlesque.com
END:VEVENT
BEGIN:VEVENT
DTSTART;TZID=Europe/Paris:20260310T204500
DTEND;TZID=Europe/Paris:20260310T221500
DTSTAMP:20260423T165048
CREATED:20250816T173456Z
LAST-MODIFIED:20250816T173456Z
UID:3858-1773175500-1773180900@faburlesque.com
SUMMARY:Cours burlesque hebdo  "Je fais"
DESCRIPTION:Cycle 3 – À gorge déployée 1
URL:https://faburlesque.com/event/cours-burlesque-hebdo-je-fais-16/
LOCATION:Salle Nini Lapointure /Paléficat\, 9 Chemin de Paléficat\, Toulouse\, 31200\, France
CATEGORIES:"Je fais",Cours burlesques hebdo
ATTACH;FMTTYPE=image/jpeg:https://faburlesque.com/wp-content/uploads/2022/05/01-IMG_3275-2-scaled.jpg
ORGANIZER;CN="FAburlesque":MAILTO:contact@faburlesque.com
END:VEVENT
BEGIN:VEVENT
DTSTART;TZID=Europe/Paris:20260310T190000
DTEND;TZID=Europe/Paris:20260310T203000
DTSTAMP:20260423T165048
CREATED:20250816T112034Z
LAST-MODIFIED:20250816T154748Z
UID:3751-1773169200-1773174600@faburlesque.com
SUMMARY:Cours burlesque hebdo  "Je suis"
DESCRIPTION:Cycle 3 – À gorge déployée 1
URL:https://faburlesque.com/event/cours-burlesque-hebdo-je-suis-16/
LOCATION:Salle Nini Lapointure /Paléficat\, 9 Chemin de Paléficat\, Toulouse\, 31200\, France
CATEGORIES:"Je suis",Cours burlesques hebdo
ATTACH;FMTTYPE=image/jpeg:https://faburlesque.com/wp-content/uploads/2022/05/01-IMG_3275-2-scaled.jpg
ORGANIZER;CN="FAburlesque":MAILTO:contact@faburlesque.com
END:VEVENT
BEGIN:VEVENT
DTSTART;TZID=Europe/Paris:20260308T150000
DTEND;TZID=Europe/Paris:20260308T180000
DTSTAMP:20260423T165048
CREATED:20250816T181235Z
LAST-MODIFIED:20250816T181235Z
UID:3901-1772982000-1772992800@faburlesque.com
SUMMARY:Chœur burlesque
DESCRIPTION:Cycle 3 – Petit et grand écrans 2
URL:https://faburlesque.com/event/choeur-burlesque-8/
LOCATION:Salle Nini Lapointure /Paléficat\, 9 Chemin de Paléficat\, Toulouse\, 31200\, France
CATEGORIES:Chœur burlesque,Cours
ATTACH;FMTTYPE=image/jpeg:https://faburlesque.com/wp-content/uploads/2022/05/DSC05858RS-WEB-scaled.jpg
ORGANIZER;CN="FAburlesque":MAILTO:contact@faburlesque.com
END:VEVENT
BEGIN:VEVENT
DTSTART;TZID=Europe/Paris:20260305T200000
DTEND;TZID=Europe/Paris:20260305T213000
DTSTAMP:20260423T165048
CREATED:20250816T185507Z
LAST-MODIFIED:20250816T185507Z
UID:3948-1772740800-1772746200@faburlesque.com
SUMMARY:2e année
DESCRIPTION:Cycle 3 – CHAPEAU bas 4
URL:https://faburlesque.com/event/2e-annee-12/
LOCATION:salle Lafage danse\, 2 Rue Lafage\, Toulouse\, 31300\, France
CATEGORIES:2e année,Cours
ATTACH;FMTTYPE=image/jpeg:https://faburlesque.com/wp-content/uploads/2023/07/123143539_10222760474462360_106654747560542742_o.jpg
ORGANIZER;CN="FAburlesque":MAILTO:contact@faburlesque.com
END:VEVENT
BEGIN:VEVENT
DTSTART;TZID=Europe/Paris:20260226T200000
DTEND;TZID=Europe/Paris:20260226T220000
DTSTAMP:20260423T165048
CREATED:20250816T200340Z
LAST-MODIFIED:20250816T200340Z
UID:3976-1772136000-1772143200@faburlesque.com
SUMMARY:Burlesque musical
DESCRIPTION:Cycle 3 – Petit et grand écrans 1
URL:https://faburlesque.com/event/burlesque-musical-7/
LOCATION:salle Lafage danse\, 2 Rue Lafage\, Toulouse\, 31300\, France
CATEGORIES:Burlesque musical,Cours
ATTACH;FMTTYPE=image/jpeg:https://faburlesque.com/wp-content/uploads/2024/05/10-12-par-Melissa-Loubet-scaled.jpg
ORGANIZER;CN="FAburlesque":MAILTO:contact@faburlesque.com
END:VEVENT
BEGIN:VEVENT
DTSTART;TZID=Europe/Paris:20260222T150000
DTEND;TZID=Europe/Paris:20260222T180000
DTSTAMP:20260423T165048
CREATED:20250816T181155Z
LAST-MODIFIED:20250816T181155Z
UID:3899-1771772400-1771783200@faburlesque.com
SUMMARY:Chœur burlesque
DESCRIPTION:Cycle 3 – Petit et grand écrans 1
URL:https://faburlesque.com/event/choeur-burlesque-7/
LOCATION:Salle Nini Lapointure /Paléficat\, 9 Chemin de Paléficat\, Toulouse\, 31200\, France
CATEGORIES:Chœur burlesque,Cours
ATTACH;FMTTYPE=image/jpeg:https://faburlesque.com/wp-content/uploads/2022/05/DSC05858RS-WEB-scaled.jpg
ORGANIZER;CN="FAburlesque":MAILTO:contact@faburlesque.com
END:VEVENT
BEGIN:VEVENT
DTSTART;TZID=Europe/Paris:20260219T200000
DTEND;TZID=Europe/Paris:20260219T213000
DTSTAMP:20260423T165049
CREATED:20250816T185411Z
LAST-MODIFIED:20250816T185411Z
UID:3946-1771531200-1771536600@faburlesque.com
SUMMARY:2e année
DESCRIPTION:Cycle 3 – CHAPEAU bas 3
URL:https://faburlesque.com/event/2e-annee-11/
LOCATION:salle Lafage danse\, 2 Rue Lafage\, Toulouse\, 31300\, France
CATEGORIES:2e année,Cours
ATTACH;FMTTYPE=image/jpeg:https://faburlesque.com/wp-content/uploads/2023/07/123143539_10222760474462360_106654747560542742_o.jpg
ORGANIZER;CN="FAburlesque":MAILTO:contact@faburlesque.com
END:VEVENT
BEGIN:VEVENT
DTSTART;TZID=Europe/Paris:20260217T204500
DTEND;TZID=Europe/Paris:20260217T221500
DTSTAMP:20260423T165049
CREATED:20250816T173344Z
LAST-MODIFIED:20250816T173344Z
UID:3856-1771361100-1771366500@faburlesque.com
SUMMARY:Cours burlesque hebdo  "Je fais"
DESCRIPTION:Cycle 3 – Tête à tête 3
URL:https://faburlesque.com/event/cours-burlesque-hebdo-je-fais-15/
LOCATION:Salle Nini Lapointure /Paléficat\, 9 Chemin de Paléficat\, Toulouse\, 31200\, France
CATEGORIES:"Je fais",Cours burlesques hebdo
ATTACH;FMTTYPE=image/jpeg:https://faburlesque.com/wp-content/uploads/2022/05/01-IMG_3275-2-scaled.jpg
ORGANIZER;CN="FAburlesque":MAILTO:contact@faburlesque.com
END:VEVENT
BEGIN:VEVENT
DTSTART;TZID=Europe/Paris:20260217T190000
DTEND;TZID=Europe/Paris:20260217T203000
DTSTAMP:20260423T165049
CREATED:20250816T111947Z
LAST-MODIFIED:20250816T154724Z
UID:3749-1771354800-1771360200@faburlesque.com
SUMMARY:Cours burlesque hebdo  "Je suis"
DESCRIPTION:Cycle 3 – Tête à tête 3
URL:https://faburlesque.com/event/cours-burlesque-hebdo-je-suis-15/
LOCATION:Salle Nini Lapointure /Paléficat\, 9 Chemin de Paléficat\, Toulouse\, 31200\, France
CATEGORIES:"Je suis",Cours burlesques hebdo
ATTACH;FMTTYPE=image/jpeg:https://faburlesque.com/wp-content/uploads/2022/05/01-IMG_3275-2-scaled.jpg
ORGANIZER;CN="FAburlesque":MAILTO:contact@faburlesque.com
END:VEVENT
BEGIN:VEVENT
DTSTART;TZID=Europe/Paris:20260212T200000
DTEND;TZID=Europe/Paris:20260212T213000
DTSTAMP:20260423T165049
CREATED:20250816T185326Z
LAST-MODIFIED:20250816T185326Z
UID:3944-1770926400-1770931800@faburlesque.com
SUMMARY:2e année
DESCRIPTION:Cycle 3 – CHAPEAU bas 2
URL:https://faburlesque.com/event/2e-annee-10/
LOCATION:salle Lafage danse\, 2 Rue Lafage\, Toulouse\, 31300\, France
CATEGORIES:2e année,Cours
ATTACH;FMTTYPE=image/jpeg:https://faburlesque.com/wp-content/uploads/2023/07/123143539_10222760474462360_106654747560542742_o.jpg
ORGANIZER;CN="FAburlesque":MAILTO:contact@faburlesque.com
END:VEVENT
END:VCALENDAR