BEGIN:VCALENDAR
VERSION:2.0
PRODID:-//FAburlesque - ECPv6.14.2//NONSGML v1.0//EN
CALSCALE:GREGORIAN
METHOD:PUBLISH
X-ORIGINAL-URL:https://faburlesque.com
X-WR-CALDESC:Évènements pour FAburlesque
REFRESH-INTERVAL;VALUE=DURATION:PT1H
X-Robots-Tag:noindex
X-PUBLISHED-TTL:PT1H
BEGIN:VTIMEZONE
TZID:Europe/Paris
BEGIN:DAYLIGHT
TZOFFSETFROM:+0100
TZOFFSETTO:+0200
TZNAME:CEST
DTSTART:20260329T010000
END:DAYLIGHT
BEGIN:STANDARD
TZOFFSETFROM:+0200
TZOFFSETTO:+0100
TZNAME:CET
DTSTART:20261025T010000
END:STANDARD
END:VTIMEZONE
BEGIN:VEVENT
DTSTART;TZID=Europe/Paris:20260423T200000
DTEND;TZID=Europe/Paris:20260423T213000
DTSTAMP:20260420T162845
CREATED:20250816T185817Z
LAST-MODIFIED:20250816T185902Z
UID:3954-1776974400-1776979800@faburlesque.com
SUMMARY:2e année
DESCRIPTION:Cycle 4 – L’OBJET de mes désirs 3
URL:https://faburlesque.com/event/2e-annee-15/
LOCATION:salle Lafage danse\, 2 Rue Lafage\, Toulouse\, 31300\, France
CATEGORIES:2e année,Cours
ATTACH;FMTTYPE=image/jpeg:https://faburlesque.com/wp-content/uploads/2023/07/123143539_10222760474462360_106654747560542742_o.jpg
ORGANIZER;CN="FAburlesque":MAILTO:contact@faburlesque.com
END:VEVENT
BEGIN:VEVENT
DTSTART;TZID=Europe/Paris:20260430T200000
DTEND;TZID=Europe/Paris:20260430T220000
DTSTAMP:20260420T162845
CREATED:20250816T200547Z
LAST-MODIFIED:20250816T200547Z
UID:3982-1777579200-1777586400@faburlesque.com
SUMMARY:Burlesque musical
DESCRIPTION:Cycle 4 – Aux confins de la galaxie 1
URL:https://faburlesque.com/event/burlesque-musical-10/
LOCATION:salle Lafage danse\, 2 Rue Lafage\, Toulouse\, 31300\, France
CATEGORIES:Burlesque musical,Cours
ATTACH;FMTTYPE=image/jpeg:https://faburlesque.com/wp-content/uploads/2024/05/10-12-par-Melissa-Loubet-scaled.jpg
ORGANIZER;CN="FAburlesque":MAILTO:contact@faburlesque.com
END:VEVENT
BEGIN:VEVENT
DTSTART;TZID=Europe/Paris:20260503T150000
DTEND;TZID=Europe/Paris:20260503T180000
DTSTAMP:20260420T162845
CREATED:20250816T181444Z
LAST-MODIFIED:20250816T181444Z
UID:3907-1777820400-1777831200@faburlesque.com
SUMMARY:Chœur burlesque
DESCRIPTION:Cycle 4 – Aux confins de la galaxie 2
URL:https://faburlesque.com/event/choeur-burlesque-11/
LOCATION:Salle Nini Lapointure /Paléficat\, 9 Chemin de Paléficat\, Toulouse\, 31200\, France
CATEGORIES:Chœur burlesque,Cours
ATTACH;FMTTYPE=image/jpeg:https://faburlesque.com/wp-content/uploads/2022/05/DSC05858RS-WEB-scaled.jpg
ORGANIZER;CN="FAburlesque":MAILTO:contact@faburlesque.com
END:VEVENT
BEGIN:VEVENT
DTSTART;TZID=Europe/Paris:20260505T190000
DTEND;TZID=Europe/Paris:20260505T203000
DTSTAMP:20260420T162845
CREATED:20250816T112357Z
LAST-MODIFIED:20250816T155040Z
UID:3763-1778007600-1778013000@faburlesque.com
SUMMARY:Cours burlesque hebdo  "Je suis"
DESCRIPTION:Cycle 4 – Papillons dans le ventre 1
URL:https://faburlesque.com/event/cours-burlesque-hebdo-je-suis-22/
LOCATION:Salle Nini Lapointure /Paléficat\, 9 Chemin de Paléficat\, Toulouse\, 31200\, France
CATEGORIES:"Je suis",Cours burlesques hebdo
ATTACH;FMTTYPE=image/jpeg:https://faburlesque.com/wp-content/uploads/2022/05/01-IMG_3275-2-scaled.jpg
ORGANIZER;CN="FAburlesque":MAILTO:contact@faburlesque.com
END:VEVENT
BEGIN:VEVENT
DTSTART;TZID=Europe/Paris:20260505T204500
DTEND;TZID=Europe/Paris:20260505T221500
DTSTAMP:20260420T162845
CREATED:20250816T174337Z
LAST-MODIFIED:20250816T174502Z
UID:3870-1778013900-1778019300@faburlesque.com
SUMMARY:Cours burlesque hebdo  "Je fais"
DESCRIPTION:Cycle 4 – Papillons dans le ventre 1
URL:https://faburlesque.com/event/cours-burlesque-hebdo-je-fais-22/
LOCATION:Salle Nini Lapointure /Paléficat\, 9 Chemin de Paléficat\, Toulouse\, 31200\, France
CATEGORIES:"Je fais",Cours burlesques hebdo
ATTACH;FMTTYPE=image/jpeg:https://faburlesque.com/wp-content/uploads/2022/05/01-IMG_3275-2-scaled.jpg
ORGANIZER;CN="FAburlesque":MAILTO:contact@faburlesque.com
END:VEVENT
BEGIN:VEVENT
DTSTART;TZID=Europe/Paris:20260507T200000
DTEND;TZID=Europe/Paris:20260507T213000
DTSTAMP:20260420T162845
CREATED:20250816T190000Z
LAST-MODIFIED:20250816T190000Z
UID:3959-1778184000-1778189400@faburlesque.com
SUMMARY:2e année
DESCRIPTION:Cycle 4 – L’OBJET de mes désirs 4
URL:https://faburlesque.com/event/2e-annee-16/
LOCATION:salle Lafage danse\, 2 Rue Lafage\, Toulouse\, 31300\, France
CATEGORIES:2e année,Cours
ATTACH;FMTTYPE=image/jpeg:https://faburlesque.com/wp-content/uploads/2023/07/123143539_10222760474462360_106654747560542742_o.jpg
ORGANIZER;CN="FAburlesque":MAILTO:contact@faburlesque.com
END:VEVENT
BEGIN:VEVENT
DTSTART;TZID=Europe/Paris:20260512T190000
DTEND;TZID=Europe/Paris:20260512T203000
DTSTAMP:20260420T162845
CREATED:20250816T112426Z
LAST-MODIFIED:20250816T155105Z
UID:3765-1778612400-1778617800@faburlesque.com
SUMMARY:Cours burlesque hebdo  "Je suis"
DESCRIPTION:Cycle 4 – Papillons dans le ventre 2
URL:https://faburlesque.com/event/cours-burlesque-hebdo-je-suis-23/
LOCATION:Salle Nini Lapointure /Paléficat\, 9 Chemin de Paléficat\, Toulouse\, 31200\, France
CATEGORIES:"Je suis",Cours burlesques hebdo
ATTACH;FMTTYPE=image/jpeg:https://faburlesque.com/wp-content/uploads/2022/05/01-IMG_3275-2-scaled.jpg
ORGANIZER;CN="FAburlesque":MAILTO:contact@faburlesque.com
END:VEVENT
BEGIN:VEVENT
DTSTART;TZID=Europe/Paris:20260512T204500
DTEND;TZID=Europe/Paris:20260512T221500
DTSTAMP:20260420T162845
CREATED:20250816T174551Z
LAST-MODIFIED:20250816T174551Z
UID:3872-1778618700-1778624100@faburlesque.com
SUMMARY:Cours burlesque hebdo  "Je fais"
DESCRIPTION:Cycle 4 – Papillons dans le ventre 2
URL:https://faburlesque.com/event/cours-burlesque-hebdo-je-fais-23/
LOCATION:Salle Nini Lapointure /Paléficat\, 9 Chemin de Paléficat\, Toulouse\, 31200\, France
CATEGORIES:"Je fais",Cours burlesques hebdo
ATTACH;FMTTYPE=image/jpeg:https://faburlesque.com/wp-content/uploads/2022/05/01-IMG_3275-2-scaled.jpg
ORGANIZER;CN="FAburlesque":MAILTO:contact@faburlesque.com
END:VEVENT
BEGIN:VEVENT
DTSTART;TZID=Europe/Paris:20260514T200000
DTEND;TZID=Europe/Paris:20260514T220000
DTSTAMP:20260420T162845
CREATED:20250816T200630Z
LAST-MODIFIED:20250816T200630Z
UID:3984-1778788800-1778796000@faburlesque.com
SUMMARY:Burlesque musical
DESCRIPTION:Cycle 4 – Aux confins de la galaxie 2
URL:https://faburlesque.com/event/burlesque-musical-11/
LOCATION:salle Lafage danse\, 2 Rue Lafage\, Toulouse\, 31300\, France
CATEGORIES:Burlesque musical,Cours
ATTACH;FMTTYPE=image/jpeg:https://faburlesque.com/wp-content/uploads/2024/05/10-12-par-Melissa-Loubet-scaled.jpg
ORGANIZER;CN="FAburlesque":MAILTO:contact@faburlesque.com
END:VEVENT
BEGIN:VEVENT
DTSTART;TZID=Europe/Paris:20260517T150000
DTEND;TZID=Europe/Paris:20260517T170000
DTSTAMP:20260420T162845
CREATED:20250816T181527Z
LAST-MODIFIED:20250816T181527Z
UID:3909-1779030000-1779037200@faburlesque.com
SUMMARY:Chœur burlesque
DESCRIPTION:Cycle 4 – Aux confins de la galaxie 3
URL:https://faburlesque.com/event/choeur-burlesque-12/
LOCATION:Salle Nini Lapointure /Paléficat\, 9 Chemin de Paléficat\, Toulouse\, 31200\, France
CATEGORIES:Chœur burlesque,Cours
ATTACH;FMTTYPE=image/jpeg:https://faburlesque.com/wp-content/uploads/2022/05/DSC05858RS-WEB-scaled.jpg
ORGANIZER;CN="FAburlesque":MAILTO:contact@faburlesque.com
END:VEVENT
BEGIN:VEVENT
DTSTART;TZID=Europe/Paris:20260519T190000
DTEND;TZID=Europe/Paris:20260519T203000
DTSTAMP:20260420T162845
CREATED:20250816T112501Z
LAST-MODIFIED:20250816T155127Z
UID:3767-1779217200-1779222600@faburlesque.com
SUMMARY:Cours burlesque hebdo  "Je suis"
DESCRIPTION:Cycle 4 – Papillons dans le ventre 3
URL:https://faburlesque.com/event/cours-burlesque-hebdo-je-suis-24/
LOCATION:Salle Nini Lapointure /Paléficat\, 9 Chemin de Paléficat\, Toulouse\, 31200\, France
CATEGORIES:"Je suis",Cours burlesques hebdo
ATTACH;FMTTYPE=image/jpeg:https://faburlesque.com/wp-content/uploads/2022/05/01-IMG_3275-2-scaled.jpg
ORGANIZER;CN="FAburlesque":MAILTO:contact@faburlesque.com
END:VEVENT
BEGIN:VEVENT
DTSTART;TZID=Europe/Paris:20260519T204500
DTEND;TZID=Europe/Paris:20260519T221500
DTSTAMP:20260420T162845
CREATED:20250816T174641Z
LAST-MODIFIED:20250816T174641Z
UID:3874-1779223500-1779228900@faburlesque.com
SUMMARY:Cours burlesque hebdo  "Je fais"
DESCRIPTION:Cycle 4 – Papillons dans le ventre 3
URL:https://faburlesque.com/event/cours-burlesque-hebdo-je-fais-24/
LOCATION:Salle Nini Lapointure /Paléficat\, 9 Chemin de Paléficat\, Toulouse\, 31200\, France
CATEGORIES:"Je fais",Cours burlesques hebdo
ATTACH;FMTTYPE=image/jpeg:https://faburlesque.com/wp-content/uploads/2022/05/01-IMG_3275-2-scaled.jpg
ORGANIZER;CN="FAburlesque":MAILTO:contact@faburlesque.com
END:VEVENT
BEGIN:VEVENT
DTSTART;TZID=Europe/Paris:20260521T200000
DTEND;TZID=Europe/Paris:20260521T220000
DTSTAMP:20260420T162845
CREATED:20250816T200720Z
LAST-MODIFIED:20250816T200720Z
UID:3986-1779393600-1779400800@faburlesque.com
SUMMARY:Burlesque musical
DESCRIPTION:Cycle 4 – Aux confins de la galaxie 3
URL:https://faburlesque.com/event/burlesque-musical-12/
LOCATION:salle Lafage danse\, 2 Rue Lafage\, Toulouse\, 31300\, France
CATEGORIES:Burlesque musical,Cours
ATTACH;FMTTYPE=image/jpeg:https://faburlesque.com/wp-content/uploads/2024/05/10-12-par-Melissa-Loubet-scaled.jpg
ORGANIZER;CN="FAburlesque":MAILTO:contact@faburlesque.com
END:VEVENT
BEGIN:VEVENT
DTSTART;TZID=Europe/Paris:20260524T181500
DTEND;TZID=Europe/Paris:20260524T210000
DTSTAMP:20260420T162845
CREATED:20250816T211534Z
LAST-MODIFIED:20250816T211534Z
UID:4040-1779646500-1779656400@faburlesque.com
SUMMARY:Scène ouverte "Aux confins de la galaxie"
DESCRIPTION:Partons ensemble à la conquête de l’Espace ! \n  \nCôté public : 12€ \nMerci d’arriver 45 minutes avant le début du spectacle.\nPrenez le temps de boire un verre ou de savourer un panier apéro (à précommander)\ndans une ambiance conviviale avant de plonger dans l’univers du spectacle. \n____ \nCôté programmation :\n– priorité aux élèves et aux stagiaires de FAburlesque\n– restitution du travail du Chœur burlesque et du Burlesque musical\n– artistes extérieur·e·s bienvenu·e·s sur candidature et selon les places disponibles
URL:https://faburlesque.com/event/scene-ouverte-aux-confins-de-la-galaxie/
LOCATION:Le Citron Bleu\, 18 Rue des Paradoux\, Toulouse\, 31000\, France
CATEGORIES:Scène ouverte
ATTACH;FMTTYPE=image/jpeg:https://faburlesque.com/wp-content/uploads/2025/08/Affiche-Aux-confins-de-la-galaxie-scaled.jpg
ORGANIZER;CN="FAburlesque":MAILTO:contact@faburlesque.com
END:VEVENT
BEGIN:VEVENT
DTSTART;TZID=Europe/Paris:20260526T190000
DTEND;TZID=Europe/Paris:20260526T221500
DTSTAMP:20260420T162845
CREATED:20250816T175411Z
LAST-MODIFIED:20250816T175411Z
UID:3882-1779822000-1779833700@faburlesque.com
SUMMARY:Cours burlesque hebdo : atelier créatif
DESCRIPTION:Cycle 4 – Customisation sous-vêtements
URL:https://faburlesque.com/event/cours-burlesque-hebdo-atelier-creatif-4/
LOCATION:Salle Nini Lapointure /Paléficat\, 9 Chemin de Paléficat\, Toulouse\, 31200\, France
CATEGORIES:"Je fais","Je suis",Atelier créatif,Cours burlesques hebdo
ATTACH;FMTTYPE=image/jpeg:https://faburlesque.com/wp-content/uploads/2022/05/01-IMG_3275-2-scaled.jpg
ORGANIZER;CN="FAburlesque":MAILTO:contact@faburlesque.com
END:VEVENT
BEGIN:VEVENT
DTSTART;TZID=Europe/Paris:20260528T200000
DTEND;TZID=Europe/Paris:20260528T220000
DTSTAMP:20260420T162845
CREATED:20250816T183220Z
LAST-MODIFIED:20250816T183511Z
UID:3923-1779998400-1780005600@faburlesque.com
SUMMARY:Impro burlesque
DESCRIPTION:Cycle 2 – Perfectionnement 3\n(corset / air burlesque)
URL:https://faburlesque.com/event/impro-burlesque-6/
LOCATION:salle Lafage danse\, 2 Rue Lafage\, Toulouse\, 31300\, France
CATEGORIES:Cours,Impro burlesque
ATTACH;FMTTYPE=image/jpeg:https://faburlesque.com/wp-content/uploads/2025/08/GALA-FABURLESQUE-Jeudi-26-juin-2025-photos-TRAN-PHAT-133-scaled.jpg
ORGANIZER;CN="FAburlesque":MAILTO:contact@faburlesque.com
END:VEVENT
BEGIN:VEVENT
DTSTART;TZID=Europe/Paris:20260602T190000
DTEND;TZID=Europe/Paris:20260602T221500
DTSTAMP:20260420T162846
CREATED:20250816T203509Z
LAST-MODIFIED:20250816T203509Z
UID:4005-1780426800-1780438500@faburlesque.com
SUMMARY:Coachings gala
DESCRIPTION:Coachings individuels pour les élèves des cours burlesques hebdo participant au gala
URL:https://faburlesque.com/event/coachings-gala/
LOCATION:Salle Nini Lapointure /Paléficat\, 9 Chemin de Paléficat\, Toulouse\, 31200\, France
CATEGORIES:"Je fais","Je suis",Coachings gala,Cours burlesques hebdo,Gala
ATTACH;FMTTYPE=image/jpeg:https://faburlesque.com/wp-content/uploads/2023/07/LOVE-ETC-2-PRESENTATIONS-Photos-DAVID-TORRES-2-AVRIL-2023-9-scaled.jpg
ORGANIZER;CN="FAburlesque":MAILTO:contact@faburlesque.com
END:VEVENT
BEGIN:VEVENT
DTSTART;TZID=Europe/Paris:20260604T200000
DTEND;TZID=Europe/Paris:20260604T220000
DTSTAMP:20260420T162846
CREATED:20250816T201700Z
LAST-MODIFIED:20250816T201700Z
UID:3988-1780603200-1780610400@faburlesque.com
SUMMARY:Préparation gala
DESCRIPTION:Répétitions libres pour toustes les élèves participant au gala
URL:https://faburlesque.com/event/preparation-gala/
LOCATION:salle Lafage danse\, 2 Rue Lafage\, Toulouse\, 31300\, France
CATEGORIES:"Je fais","Je suis",2e année,Gala,Préparation gala
ATTACH;FMTTYPE=image/jpeg:https://faburlesque.com/wp-content/uploads/2023/07/LOVE-ETC-2-PRESENTATIONS-Photos-DAVID-TORRES-2-AVRIL-2023-9-scaled.jpg
ORGANIZER;CN="FAburlesque":MAILTO:contact@faburlesque.com
END:VEVENT
BEGIN:VEVENT
DTSTART;TZID=Europe/Paris:20260609T190000
DTEND;TZID=Europe/Paris:20260609T221500
DTSTAMP:20260420T162846
CREATED:20250816T203544Z
LAST-MODIFIED:20250816T203544Z
UID:4007-1781031600-1781043300@faburlesque.com
SUMMARY:Coachings gala
DESCRIPTION:Coachings individuels pour les élèves des cours burlesques hebdo participant au gala
URL:https://faburlesque.com/event/coachings-gala-2/
LOCATION:Salle Nini Lapointure /Paléficat\, 9 Chemin de Paléficat\, Toulouse\, 31200\, France
CATEGORIES:"Je fais","Je suis",Coachings gala,Cours burlesques hebdo,Gala
ATTACH;FMTTYPE=image/jpeg:https://faburlesque.com/wp-content/uploads/2023/07/LOVE-ETC-2-PRESENTATIONS-Photos-DAVID-TORRES-2-AVRIL-2023-9-scaled.jpg
ORGANIZER;CN="FAburlesque":MAILTO:contact@faburlesque.com
END:VEVENT
BEGIN:VEVENT
DTSTART;TZID=Europe/Paris:20260611T200000
DTEND;TZID=Europe/Paris:20260611T220000
DTSTAMP:20260420T162846
CREATED:20250816T201733Z
LAST-MODIFIED:20250816T201733Z
UID:3990-1781208000-1781215200@faburlesque.com
SUMMARY:Préparation gala
DESCRIPTION:Répétitions libres pour toustes les élèves participant au gala
URL:https://faburlesque.com/event/preparation-gala-2/
LOCATION:salle Lafage danse\, 2 Rue Lafage\, Toulouse\, 31300\, France
CATEGORIES:"Je fais","Je suis",2e année,Gala,Préparation gala
ATTACH;FMTTYPE=image/jpeg:https://faburlesque.com/wp-content/uploads/2023/07/LOVE-ETC-2-PRESENTATIONS-Photos-DAVID-TORRES-2-AVRIL-2023-9-scaled.jpg
ORGANIZER;CN="FAburlesque":MAILTO:contact@faburlesque.com
END:VEVENT
BEGIN:VEVENT
DTSTART;TZID=Europe/Paris:20260616T190000
DTEND;TZID=Europe/Paris:20260616T221500
DTSTAMP:20260420T162846
CREATED:20250816T203620Z
LAST-MODIFIED:20250816T203620Z
UID:4009-1781636400-1781648100@faburlesque.com
SUMMARY:Coachings gala
DESCRIPTION:Coachings individuels pour les élèves des cours burlesques hebdo participant au gala
URL:https://faburlesque.com/event/coachings-gala-3/
LOCATION:Salle Nini Lapointure /Paléficat\, 9 Chemin de Paléficat\, Toulouse\, 31200\, France
CATEGORIES:"Je fais","Je suis",Coachings gala,Cours burlesques hebdo,Gala
ATTACH;FMTTYPE=image/jpeg:https://faburlesque.com/wp-content/uploads/2023/07/LOVE-ETC-2-PRESENTATIONS-Photos-DAVID-TORRES-2-AVRIL-2023-9-scaled.jpg
ORGANIZER;CN="FAburlesque":MAILTO:contact@faburlesque.com
END:VEVENT
BEGIN:VEVENT
DTSTART;TZID=Europe/Paris:20260618T200000
DTEND;TZID=Europe/Paris:20260618T220000
DTSTAMP:20260420T162846
CREATED:20250816T201757Z
LAST-MODIFIED:20250816T201757Z
UID:3992-1781812800-1781820000@faburlesque.com
SUMMARY:Préparation gala
DESCRIPTION:Répétitions libres pour toustes les élèves participant au gala
URL:https://faburlesque.com/event/preparation-gala-3/
LOCATION:salle Lafage danse\, 2 Rue Lafage\, Toulouse\, 31300\, France
CATEGORIES:"Je fais","Je suis",2e année,Gala,Préparation gala
ATTACH;FMTTYPE=image/jpeg:https://faburlesque.com/wp-content/uploads/2023/07/LOVE-ETC-2-PRESENTATIONS-Photos-DAVID-TORRES-2-AVRIL-2023-9-scaled.jpg
ORGANIZER;CN="FAburlesque":MAILTO:contact@faburlesque.com
END:VEVENT
BEGIN:VEVENT
DTSTART;TZID=Europe/Paris:20260623T190000
DTEND;TZID=Europe/Paris:20260623T221500
DTSTAMP:20260420T162846
CREATED:20250816T203646Z
LAST-MODIFIED:20250816T203646Z
UID:4011-1782241200-1782252900@faburlesque.com
SUMMARY:Coachings gala
DESCRIPTION:Coachings individuels pour les élèves des cours burlesques hebdo participant au gala
URL:https://faburlesque.com/event/coachings-gala-4/
LOCATION:Salle Nini Lapointure /Paléficat\, 9 Chemin de Paléficat\, Toulouse\, 31200\, France
CATEGORIES:"Je fais","Je suis",Coachings gala,Cours burlesques hebdo,Gala
ATTACH;FMTTYPE=image/jpeg:https://faburlesque.com/wp-content/uploads/2023/07/LOVE-ETC-2-PRESENTATIONS-Photos-DAVID-TORRES-2-AVRIL-2023-9-scaled.jpg
ORGANIZER;CN="FAburlesque":MAILTO:contact@faburlesque.com
END:VEVENT
BEGIN:VEVENT
DTSTART;TZID=Europe/Paris:20260625T200000
DTEND;TZID=Europe/Paris:20260625T220000
DTSTAMP:20260420T162846
CREATED:20250816T201834Z
LAST-MODIFIED:20250816T201834Z
UID:3994-1782417600-1782424800@faburlesque.com
SUMMARY:Préparation gala
DESCRIPTION:Répétitions libres pour toustes les élèves participant au gala
URL:https://faburlesque.com/event/preparation-gala-4/
LOCATION:salle Lafage danse\, 2 Rue Lafage\, Toulouse\, 31300\, France
CATEGORIES:"Je fais","Je suis",2e année,Gala,Préparation gala
ATTACH;FMTTYPE=image/jpeg:https://faburlesque.com/wp-content/uploads/2023/07/LOVE-ETC-2-PRESENTATIONS-Photos-DAVID-TORRES-2-AVRIL-2023-9-scaled.jpg
ORGANIZER;CN="FAburlesque":MAILTO:contact@faburlesque.com
END:VEVENT
BEGIN:VEVENT
DTSTART;TZID=Europe/Paris:20260702T200000
DTEND;TZID=Europe/Paris:20260702T220000
DTSTAMP:20260420T162846
CREATED:20250816T202347Z
LAST-MODIFIED:20250816T202347Z
UID:3996-1783022400-1783029600@faburlesque.com
SUMMARY:Rencontre post-gala
DESCRIPTION:Retrouvailles et débrief pour toustes les élèves ayant participé au gala ou suivi des cours FAburlesque durant la saison 2025-26
URL:https://faburlesque.com/event/rencontre-post-gala/
LOCATION:salle Lafage danse\, 2 Rue Lafage\, Toulouse\, 31300\, France
CATEGORIES:"Je fais","Je suis",2e année,Burlesque musical,Chœur burlesque,Gala
ATTACH;FMTTYPE=image/jpeg:https://faburlesque.com/wp-content/uploads/2025/08/couv-FB-2024.jpg
ORGANIZER;CN="FAburlesque":MAILTO:contact@faburlesque.com
END:VEVENT
BEGIN:VEVENT
DTSTART;TZID=Europe/Paris:20260709T200000
DTEND;TZID=Europe/Paris:20260709T220000
DTSTAMP:20260420T162846
CREATED:20250816T202734Z
LAST-MODIFIED:20250816T202734Z
UID:3999-1783627200-1783634400@faburlesque.com
SUMMARY:P'tit stage de chant choral "Voilà l'été !"
DESCRIPTION:Travail collectif sur un répertoire varié\, pour préparer les vacances
URL:https://faburlesque.com/event/ptit-stage-de-chant-choral-voila-lete/
LOCATION:salle Lafage danse\, 2 Rue Lafage\, Toulouse\, 31300\, France
CATEGORIES:P'tit stage,Stage
ORGANIZER;CN="FAburlesque":MAILTO:contact@faburlesque.com
END:VEVENT
BEGIN:VEVENT
DTSTART;TZID=Europe/Paris:20260716T200000
DTEND;TZID=Europe/Paris:20260716T220000
DTSTAMP:20260420T162846
CREATED:20250816T202908Z
LAST-MODIFIED:20250816T202908Z
UID:4001-1784232000-1784239200@faburlesque.com
SUMMARY:P'tit stage d'effeuillage "Voilà l'été !"
DESCRIPTION:Chorégraphie avec effeuillage\, pour préparer les vacances
URL:https://faburlesque.com/event/ptit-stage-deffeuillage-voila-lete/
LOCATION:salle Lafage danse\, 2 Rue Lafage\, Toulouse\, 31300\, France
CATEGORIES:P'tit stage,Stage
ORGANIZER;CN="FAburlesque":MAILTO:contact@faburlesque.com
END:VEVENT
BEGIN:VEVENT
DTSTART;TZID=Europe/Paris:20260723T200000
DTEND;TZID=Europe/Paris:20260723T220000
DTSTAMP:20260420T162846
CREATED:20250816T203038Z
LAST-MODIFIED:20250816T203038Z
UID:4003-1784836800-1784844000@faburlesque.com
SUMMARY:P'tit stage "Création de personnage"
DESCRIPTION:Développez votre personnage burlesque pour préparer un spectacle ou un numéro
URL:https://faburlesque.com/event/ptit-stage-creation-de-personnage/
LOCATION:salle Lafage danse\, 2 Rue Lafage\, Toulouse\, 31300\, France
CATEGORIES:P'tit stage,Stage
ORGANIZER;CN="FAburlesque":MAILTO:contact@faburlesque.com
END:VEVENT
END:VCALENDAR