BEGIN:VCALENDAR
VERSION:2.0
PRODID:-//FAburlesque - ECPv6.14.2//NONSGML v1.0//EN
CALSCALE:GREGORIAN
METHOD:PUBLISH
X-WR-CALNAME:FAburlesque
X-ORIGINAL-URL:https://faburlesque.com
X-WR-CALDESC:Évènements pour FAburlesque
REFRESH-INTERVAL;VALUE=DURATION:PT1H
X-Robots-Tag:noindex
X-PUBLISHED-TTL:PT1H
BEGIN:VTIMEZONE
TZID:Europe/Paris
BEGIN:DAYLIGHT
TZOFFSETFROM:+0100
TZOFFSETTO:+0200
TZNAME:CEST
DTSTART:20250330T010000
END:DAYLIGHT
BEGIN:STANDARD
TZOFFSETFROM:+0200
TZOFFSETTO:+0100
TZNAME:CET
DTSTART:20251026T010000
END:STANDARD
END:VTIMEZONE
BEGIN:VEVENT
DTSTART;TZID=Europe/Paris:20250921T150000
DTEND;TZID=Europe/Paris:20250921T180000
DTSTAMP:20260423T231454
CREATED:20250816T205615Z
LAST-MODIFIED:20250819T111018Z
UID:4030-1758466800-1758477600@faburlesque.com
SUMMARY:Portes ouvertes FAburlesque
DESCRIPTION:Rencontrez prof et élèves et découvrez nos diverses activités burlesques\, dans notre toute nouvelle salle
URL:https://faburlesque.com/event/portes-ouvertes-faburlesque/
LOCATION:Salle Nini Lapointure /Paléficat\, 9 Chemin de Paléficat\, Toulouse\, 31200\, France
CATEGORIES:Portes ouvertes
ATTACH;FMTTYPE=image/jpeg:https://faburlesque.com/wp-content/uploads/2025/08/couv-FB-2024.jpg
ORGANIZER;CN="FAburlesque":MAILTO:contact@faburlesque.com
END:VEVENT
BEGIN:VEVENT
DTSTART;TZID=Europe/Paris:20250923T190000
DTEND;TZID=Europe/Paris:20250923T221500
DTSTAMP:20260423T231454
CREATED:20250816T174946Z
LAST-MODIFIED:20250816T174946Z
UID:3876-1758654000-1758665700@faburlesque.com
SUMMARY:Cours burlesque hebdo : atelier créatif
DESCRIPTION:Cycle 1 – Fabrication nippies
URL:https://faburlesque.com/event/cours-burlesque-hebdo-atelier-creatif/
LOCATION:Salle Nini Lapointure /Paléficat\, 9 Chemin de Paléficat\, Toulouse\, 31200\, France
CATEGORIES:"Je fais","Je suis",Atelier créatif,Cours burlesques hebdo
ATTACH;FMTTYPE=image/jpeg:https://faburlesque.com/wp-content/uploads/2022/05/01-IMG_3275-2-scaled.jpg
ORGANIZER;CN="FAburlesque":MAILTO:contact@faburlesque.com
END:VEVENT
BEGIN:VEVENT
DTSTART;TZID=Europe/Paris:20250925T200000
DTEND;TZID=Europe/Paris:20250925T220000
DTSTAMP:20260423T231454
CREATED:20250816T182429Z
LAST-MODIFIED:20250816T183353Z
UID:3911-1758830400-1758837600@faburlesque.com
SUMMARY:Impro burlesque
DESCRIPTION:Cycle 1 – Bases 1\n(gants / playback)
URL:https://faburlesque.com/event/impro-burlesque/
LOCATION:salle Lafage danse\, 2 Rue Lafage\, Toulouse\, 31300\, France
CATEGORIES:Cours,Impro burlesque
ATTACH;FMTTYPE=image/jpeg:https://faburlesque.com/wp-content/uploads/2025/08/GALA-FABURLESQUE-Jeudi-26-juin-2025-photos-TRAN-PHAT-133-scaled.jpg
ORGANIZER;CN="FAburlesque":MAILTO:contact@faburlesque.com
END:VEVENT
BEGIN:VEVENT
DTSTART;TZID=Europe/Paris:20250930T190000
DTEND;TZID=Europe/Paris:20250930T203000
DTSTAMP:20260423T231454
CREATED:20250816T111053Z
LAST-MODIFIED:20250816T154110Z
UID:3721-1759258800-1759264200@faburlesque.com
SUMMARY:Cours burlesque hebdo  "Je suis"
DESCRIPTION:Cycle 1 – À bras ouverts 1
URL:https://faburlesque.com/event/cours-burlesque-hebdo-je-suis-2/
LOCATION:Salle Nini Lapointure /Paléficat\, 9 Chemin de Paléficat\, Toulouse\, 31200\, France
CATEGORIES:"Je suis",Cours burlesques hebdo
ATTACH;FMTTYPE=image/jpeg:https://faburlesque.com/wp-content/uploads/2022/05/01-IMG_3275-2-scaled.jpg
ORGANIZER;CN="FAburlesque":MAILTO:contact@faburlesque.com
END:VEVENT
BEGIN:VEVENT
DTSTART;TZID=Europe/Paris:20250930T204500
DTEND;TZID=Europe/Paris:20250930T221500
DTSTAMP:20260423T231454
CREATED:20250816T113518Z
LAST-MODIFIED:20250816T144626Z
UID:3769-1759265100-1759270500@faburlesque.com
SUMMARY:Cours burlesque hebdo  "Je fais"
DESCRIPTION:Cycle 1 – À bras ouverts 1
URL:https://faburlesque.com/event/cours-burlesque-hebdo-je-fais/
LOCATION:Salle Nini Lapointure /Paléficat\, 9 Chemin de Paléficat\, Toulouse\, 31200\, France
CATEGORIES:"Je fais",Cours burlesques hebdo
ATTACH;FMTTYPE=image/jpeg:https://faburlesque.com/wp-content/uploads/2022/05/01-IMG_3275-2-scaled.jpg
ORGANIZER;CN="FAburlesque":MAILTO:contact@faburlesque.com
END:VEVENT
END:VCALENDAR