BEGIN:VCALENDAR
VERSION:2.0
PRODID:-//FAburlesque - ECPv6.14.2//NONSGML v1.0//EN
CALSCALE:GREGORIAN
METHOD:PUBLISH
X-WR-CALNAME:FAburlesque
X-ORIGINAL-URL:https://faburlesque.com
X-WR-CALDESC:Évènements pour FAburlesque
REFRESH-INTERVAL;VALUE=DURATION:PT1H
X-Robots-Tag:noindex
X-PUBLISHED-TTL:PT1H
BEGIN:VTIMEZONE
TZID:Europe/Paris
BEGIN:DAYLIGHT
TZOFFSETFROM:+0100
TZOFFSETTO:+0200
TZNAME:CEST
DTSTART:20250330T010000
END:DAYLIGHT
BEGIN:STANDARD
TZOFFSETFROM:+0200
TZOFFSETTO:+0100
TZNAME:CET
DTSTART:20251026T010000
END:STANDARD
END:VTIMEZONE
BEGIN:VEVENT
DTSTART;TZID=Europe/Paris:20251104T190000
DTEND;TZID=Europe/Paris:20251104T203000
DTSTAMP:20260423T204551
CREATED:20250816T111239Z
LAST-MODIFIED:20250816T154229Z
UID:3727-1762282800-1762288200@faburlesque.com
SUMMARY:Cours burlesque hebdo  "Je suis"
DESCRIPTION:Cycle 1 – Au cœur du sujet 1
URL:https://faburlesque.com/event/cours-burlesque-hebdo-je-suis-4/
LOCATION:Salle Nini Lapointure /Paléficat\, 9 Chemin de Paléficat\, Toulouse\, 31200\, France
CATEGORIES:"Je suis",Cours burlesques hebdo
ATTACH;FMTTYPE=image/jpeg:https://faburlesque.com/wp-content/uploads/2022/05/01-IMG_3275-2-scaled.jpg
ORGANIZER;CN="FAburlesque":MAILTO:contact@faburlesque.com
END:VEVENT
BEGIN:VEVENT
DTSTART;TZID=Europe/Paris:20251104T204500
DTEND;TZID=Europe/Paris:20251104T221500
DTSTAMP:20260423T204551
CREATED:20250816T113917Z
LAST-MODIFIED:20250816T145630Z
UID:3777-1762289100-1762294500@faburlesque.com
SUMMARY:Cours burlesque hebdo  "Je fais"
DESCRIPTION:Cycle 1 – Au cœur du sujet 1
URL:https://faburlesque.com/event/cours-burlesque-hebdo-je-fais-4/
LOCATION:Salle Nini Lapointure /Paléficat\, 9 Chemin de Paléficat\, Toulouse\, 31200\, France
CATEGORIES:"Je fais",Cours burlesques hebdo
ATTACH;FMTTYPE=image/jpeg:https://faburlesque.com/wp-content/uploads/2022/05/01-IMG_3275-2-scaled.jpg
ORGANIZER;CN="FAburlesque":MAILTO:contact@faburlesque.com
END:VEVENT
BEGIN:VEVENT
DTSTART;TZID=Europe/Paris:20251106T200000
DTEND;TZID=Europe/Paris:20251106T213000
DTSTAMP:20260423T204551
CREATED:20250816T184716Z
LAST-MODIFIED:20250816T184716Z
UID:3932-1762459200-1762464600@faburlesque.com
SUMMARY:2e année
DESCRIPTION:Cycle 1 – En ÉVENTAIL 4
URL:https://faburlesque.com/event/2e-annee-4/
LOCATION:salle Lafage danse\, 2 Rue Lafage\, Toulouse\, 31300\, France
CATEGORIES:2e année,Cours
ATTACH;FMTTYPE=image/jpeg:https://faburlesque.com/wp-content/uploads/2023/07/123143539_10222760474462360_106654747560542742_o.jpg
ORGANIZER;CN="FAburlesque":MAILTO:contact@faburlesque.com
END:VEVENT
BEGIN:VEVENT
DTSTART;TZID=Europe/Paris:20251109T150000
DTEND;TZID=Europe/Paris:20251109T180000
DTSTAMP:20260423T204551
CREATED:20250816T180314Z
LAST-MODIFIED:20250816T180314Z
UID:3889-1762700400-1762711200@faburlesque.com
SUMMARY:Chœur burlesque
DESCRIPTION:Cycle 1 – Freak Show 2
URL:https://faburlesque.com/event/choeur-burlesque-2/
LOCATION:Salle Nini Lapointure /Paléficat\, 9 Chemin de Paléficat\, Toulouse\, 31200\, France
CATEGORIES:Chœur burlesque,Cours
ATTACH;FMTTYPE=image/jpeg:https://faburlesque.com/wp-content/uploads/2022/05/DSC05858RS-WEB-scaled.jpg
ORGANIZER;CN="FAburlesque":MAILTO:contact@faburlesque.com
END:VEVENT
BEGIN:VEVENT
DTSTART;TZID=Europe/Paris:20251111T190000
DTEND;TZID=Europe/Paris:20251111T203000
DTSTAMP:20260423T204551
CREATED:20250816T111310Z
LAST-MODIFIED:20250816T154253Z
UID:3729-1762887600-1762893000@faburlesque.com
SUMMARY:Cours burlesque hebdo  "Je suis"
DESCRIPTION:Cycle 1 – Au cœur du sujet 2
URL:https://faburlesque.com/event/cours-burlesque-hebdo-je-suis-5/
LOCATION:Salle Nini Lapointure /Paléficat\, 9 Chemin de Paléficat\, Toulouse\, 31200\, France
CATEGORIES:"Je suis",Cours burlesques hebdo
ATTACH;FMTTYPE=image/jpeg:https://faburlesque.com/wp-content/uploads/2022/05/01-IMG_3275-2-scaled.jpg
ORGANIZER;CN="FAburlesque":MAILTO:contact@faburlesque.com
END:VEVENT
BEGIN:VEVENT
DTSTART;TZID=Europe/Paris:20251111T204500
DTEND;TZID=Europe/Paris:20251111T221500
DTSTAMP:20260423T204551
CREATED:20250816T114000Z
LAST-MODIFIED:20250816T145657Z
UID:3779-1762893900-1762899300@faburlesque.com
SUMMARY:Cours burlesque hebdo  "Je fais"
DESCRIPTION:Cycle 1 – Au cœur du sujet 2
URL:https://faburlesque.com/event/cours-burlesque-hebdo-je-fais-5/
LOCATION:Salle Nini Lapointure /Paléficat\, 9 Chemin de Paléficat\, Toulouse\, 31200\, France
CATEGORIES:"Je fais",Cours burlesques hebdo
ATTACH;FMTTYPE=image/jpeg:https://faburlesque.com/wp-content/uploads/2022/05/01-IMG_3275-2-scaled.jpg
ORGANIZER;CN="FAburlesque":MAILTO:contact@faburlesque.com
END:VEVENT
BEGIN:VEVENT
DTSTART;TZID=Europe/Paris:20251113T200000
DTEND;TZID=Europe/Paris:20251113T220000
DTSTAMP:20260423T204551
CREATED:20250816T182636Z
LAST-MODIFIED:20250816T183427Z
UID:3915-1763064000-1763071200@faburlesque.com
SUMMARY:Impro burlesque
DESCRIPTION:Cycle 1 – Bases 3\n(robe / haut + jupe / pantalon)
URL:https://faburlesque.com/event/impro-burlesque-3/
LOCATION:salle Lafage danse\, 2 Rue Lafage\, Toulouse\, 31300\, France
CATEGORIES:Cours,Impro burlesque
ATTACH;FMTTYPE=image/jpeg:https://faburlesque.com/wp-content/uploads/2025/08/GALA-FABURLESQUE-Jeudi-26-juin-2025-photos-TRAN-PHAT-133-scaled.jpg
ORGANIZER;CN="FAburlesque":MAILTO:contact@faburlesque.com
END:VEVENT
BEGIN:VEVENT
DTSTART;TZID=Europe/Paris:20251118T190000
DTEND;TZID=Europe/Paris:20251118T203000
DTSTAMP:20260423T204551
CREATED:20250816T111432Z
LAST-MODIFIED:20250816T154318Z
UID:3731-1763492400-1763497800@faburlesque.com
SUMMARY:Cours burlesque hebdo  "Je suis"
DESCRIPTION:Cycle 1 – Au cœur du sujet 3
URL:https://faburlesque.com/event/cours-burlesque-hebdo-je-suis-6/
LOCATION:Salle Nini Lapointure /Paléficat\, 9 Chemin de Paléficat\, Toulouse\, 31200\, France
CATEGORIES:"Je suis",Cours burlesques hebdo
ATTACH;FMTTYPE=image/jpeg:https://faburlesque.com/wp-content/uploads/2022/05/01-IMG_3275-2-scaled.jpg
ORGANIZER;CN="FAburlesque":MAILTO:contact@faburlesque.com
END:VEVENT
BEGIN:VEVENT
DTSTART;TZID=Europe/Paris:20251118T204500
DTEND;TZID=Europe/Paris:20251118T221500
DTSTAMP:20260423T204551
CREATED:20250816T114108Z
LAST-MODIFIED:20250816T145720Z
UID:3781-1763498700-1763504100@faburlesque.com
SUMMARY:Cours burlesque hebdo  "Je fais"
DESCRIPTION:Cycle 1 – Au cœur du sujet 3
URL:https://faburlesque.com/event/cours-burlesque-hebdo-je-fais-6/
LOCATION:Salle Nini Lapointure /Paléficat\, 9 Chemin de Paléficat\, Toulouse\, 31200\, France
CATEGORIES:"Je fais",Cours burlesques hebdo
ATTACH;FMTTYPE=image/jpeg:https://faburlesque.com/wp-content/uploads/2022/05/01-IMG_3275-2-scaled.jpg
ORGANIZER;CN="FAburlesque":MAILTO:contact@faburlesque.com
END:VEVENT
BEGIN:VEVENT
DTSTART;TZID=Europe/Paris:20251120T200000
DTEND;TZID=Europe/Paris:20251120T220000
DTSTAMP:20260423T204551
CREATED:20250816T195900Z
LAST-MODIFIED:20250816T195900Z
UID:3966-1763668800-1763676000@faburlesque.com
SUMMARY:Burlesque musical
DESCRIPTION:Cycle 1 – Freak Show 2
URL:https://faburlesque.com/event/burlesque-musical-2/
LOCATION:salle Lafage danse\, 2 Rue Lafage\, Toulouse\, 31300\, France
CATEGORIES:Burlesque musical,Cours
ATTACH;FMTTYPE=image/jpeg:https://faburlesque.com/wp-content/uploads/2024/05/10-12-par-Melissa-Loubet-scaled.jpg
ORGANIZER;CN="FAburlesque":MAILTO:contact@faburlesque.com
END:VEVENT
BEGIN:VEVENT
DTSTART;TZID=Europe/Paris:20251123T150000
DTEND;TZID=Europe/Paris:20251123T170000
DTSTAMP:20260423T204551
CREATED:20250816T180415Z
LAST-MODIFIED:20250816T180820Z
UID:3891-1763910000-1763917200@faburlesque.com
SUMMARY:Chœur burlesque
DESCRIPTION:Cycle 1 – Freak Show 3
URL:https://faburlesque.com/event/choeur-burlesque-3/
LOCATION:Salle Nini Lapointure /Paléficat\, 9 Chemin de Paléficat\, Toulouse\, 31200\, France
CATEGORIES:Chœur burlesque,Cours
ATTACH;FMTTYPE=image/jpeg:https://faburlesque.com/wp-content/uploads/2022/05/DSC05858RS-WEB-scaled.jpg
ORGANIZER;CN="FAburlesque":MAILTO:contact@faburlesque.com
END:VEVENT
BEGIN:VEVENT
DTSTART;TZID=Europe/Paris:20251125T190000
DTEND;TZID=Europe/Paris:20251125T221500
DTSTAMP:20260423T204551
CREATED:20250816T175147Z
LAST-MODIFIED:20250816T175147Z
UID:3878-1764097200-1764108900@faburlesque.com
SUMMARY:Cours burlesque hebdo : atelier créatif
DESCRIPTION:Cycle 2 – Écriture scénario
URL:https://faburlesque.com/event/cours-burlesque-hebdo-atelier-creatif-2/
LOCATION:Salle Nini Lapointure /Paléficat\, 9 Chemin de Paléficat\, Toulouse\, 31200\, France
CATEGORIES:"Je fais","Je suis",Atelier créatif,Cours burlesques hebdo
ATTACH;FMTTYPE=image/jpeg:https://faburlesque.com/wp-content/uploads/2022/05/01-IMG_3275-2-scaled.jpg
ORGANIZER;CN="FAburlesque":MAILTO:contact@faburlesque.com
END:VEVENT
BEGIN:VEVENT
DTSTART;TZID=Europe/Paris:20251127T200000
DTEND;TZID=Europe/Paris:20251127T220000
DTSTAMP:20260423T204551
CREATED:20250816T195945Z
LAST-MODIFIED:20250816T195945Z
UID:3968-1764273600-1764280800@faburlesque.com
SUMMARY:Burlesque musical
DESCRIPTION:Cycle 1 – Freak Show 3
URL:https://faburlesque.com/event/burlesque-musical-3/
LOCATION:salle Lafage danse\, 2 Rue Lafage\, Toulouse\, 31300\, France
CATEGORIES:Burlesque musical,Cours
ATTACH;FMTTYPE=image/jpeg:https://faburlesque.com/wp-content/uploads/2024/05/10-12-par-Melissa-Loubet-scaled.jpg
ORGANIZER;CN="FAburlesque":MAILTO:contact@faburlesque.com
END:VEVENT
BEGIN:VEVENT
DTSTART;TZID=Europe/Paris:20251130T181500
DTEND;TZID=Europe/Paris:20251130T210000
DTSTAMP:20260423T204551
CREATED:20250816T210237Z
LAST-MODIFIED:20250816T211306Z
UID:4032-1764526500-1764536400@faburlesque.com
SUMMARY:Scène ouverte "Freak Show"
DESCRIPTION:Bienvenue dans notre Freak Show où de surprenantes créatures dévoilent leurs nombreux talents ! \n  \nCôté public : 12€ \nMerci d’arriver 45 minutes avant le début du spectacle.\nPrenez le temps de boire un verre ou de savourer un panier apéro (à précommander)\ndans une ambiance conviviale avant de plonger dans l’univers du spectacle. \n____ \nCôté programmation :\n– priorité aux élèves et aux stagiaires de FAburlesque\n– restitution du travail du Chœur burlesque et du Burlesque musical\n– artistes extérieur·e·s bienvenu·e·s sur candidature et selon les places disponibles
URL:https://faburlesque.com/event/scene-ouverte-freak-show/
LOCATION:Le Citron Bleu\, 18 Rue des Paradoux\, Toulouse\, 31000\, France
CATEGORIES:Scène ouverte
ATTACH;FMTTYPE=image/jpeg:https://faburlesque.com/wp-content/uploads/2025/08/Affiche-Freak-Show-scaled.jpg
ORGANIZER;CN="FAburlesque":MAILTO:contact@faburlesque.com
END:VEVENT
END:VCALENDAR