BEGIN:VCALENDAR
VERSION:2.0
PRODID:-//FAburlesque - ECPv6.14.2//NONSGML v1.0//EN
CALSCALE:GREGORIAN
METHOD:PUBLISH
X-ORIGINAL-URL:https://faburlesque.com
X-WR-CALDESC:Évènements pour FAburlesque
REFRESH-INTERVAL;VALUE=DURATION:PT1H
X-Robots-Tag:noindex
X-PUBLISHED-TTL:PT1H
BEGIN:VTIMEZONE
TZID:Europe/Paris
BEGIN:DAYLIGHT
TZOFFSETFROM:+0100
TZOFFSETTO:+0200
TZNAME:CEST
DTSTART:20260329T010000
END:DAYLIGHT
BEGIN:STANDARD
TZOFFSETFROM:+0200
TZOFFSETTO:+0100
TZNAME:CET
DTSTART:20261025T010000
END:STANDARD
END:VTIMEZONE
BEGIN:VEVENT
DTSTART;TZID=Europe/Paris:20260201T181500
DTEND;TZID=Europe/Paris:20260201T210000
DTSTAMP:20260423T165108
CREATED:20250816T210943Z
LAST-MODIFIED:20250816T211339Z
UID:4036-1769969700-1769979600@faburlesque.com
SUMMARY:Scène ouverte "Les goûts et les couleurs"
DESCRIPTION:Plongez dans un univers kitsch\, queer et extravagant ! \n  \nCôté public : 12€ \nMerci d’arriver 45 minutes avant le début du spectacle.\nPrenez le temps de boire un verre ou de savourer un panier apéro (à précommander)\ndans une ambiance conviviale avant de plonger dans l’univers du spectacle. \n____ \nCôté programmation :\n– priorité aux élèves et aux stagiaires de FAburlesque\n– restitution du travail du Chœur burlesque et du Burlesque musical\n– artistes extérieur·e·s bienvenu·e·s sur candidature et selon les places disponibles
URL:https://faburlesque.com/event/scene-ouverte-les-gouts-et-les-couleurs/
LOCATION:Le Citron Bleu\, 18 Rue des Paradoux\, Toulouse\, 31000\, France
CATEGORIES:Scène ouverte
ATTACH;FMTTYPE=image/jpeg:https://faburlesque.com/wp-content/uploads/2025/08/Affiche-Les-gouts-et-les-couleurs-scaled.jpg
ORGANIZER;CN="FAburlesque":MAILTO:contact@faburlesque.com
END:VEVENT
BEGIN:VEVENT
DTSTART;TZID=Europe/Paris:20260203T190000
DTEND;TZID=Europe/Paris:20260203T203000
DTSTAMP:20260423T165108
CREATED:20250816T111900Z
LAST-MODIFIED:20250816T154627Z
UID:3745-1770145200-1770150600@faburlesque.com
SUMMARY:Cours burlesque hebdo  "Je suis"
DESCRIPTION:Cycle 3 – Tête à tête 1
URL:https://faburlesque.com/event/cours-burlesque-hebdo-je-suis-13/
LOCATION:Salle Nini Lapointure /Paléficat\, 9 Chemin de Paléficat\, Toulouse\, 31200\, France
CATEGORIES:"Je suis",Cours burlesques hebdo
ATTACH;FMTTYPE=image/jpeg:https://faburlesque.com/wp-content/uploads/2022/05/01-IMG_3275-2-scaled.jpg
ORGANIZER;CN="FAburlesque":MAILTO:contact@faburlesque.com
END:VEVENT
BEGIN:VEVENT
DTSTART;TZID=Europe/Paris:20260203T204500
DTEND;TZID=Europe/Paris:20260203T221500
DTSTAMP:20260423T165108
CREATED:20250816T173216Z
LAST-MODIFIED:20250816T173216Z
UID:3852-1770151500-1770156900@faburlesque.com
SUMMARY:Cours burlesque hebdo  "Je fais"
DESCRIPTION:Cycle 3 – Tête à tête 1
URL:https://faburlesque.com/event/cours-burlesque-hebdo-je-fais-13/
LOCATION:Salle Nini Lapointure /Paléficat\, 9 Chemin de Paléficat\, Toulouse\, 31200\, France
CATEGORIES:"Je fais",Cours burlesques hebdo
ATTACH;FMTTYPE=image/jpeg:https://faburlesque.com/wp-content/uploads/2022/05/01-IMG_3275-2-scaled.jpg
ORGANIZER;CN="FAburlesque":MAILTO:contact@faburlesque.com
END:VEVENT
BEGIN:VEVENT
DTSTART;TZID=Europe/Paris:20260205T200000
DTEND;TZID=Europe/Paris:20260205T213000
DTSTAMP:20260423T165108
CREATED:20250816T185232Z
LAST-MODIFIED:20250816T185232Z
UID:3942-1770321600-1770327000@faburlesque.com
SUMMARY:2e année
DESCRIPTION:Cycle 3 – CHAPEAU bas 1
URL:https://faburlesque.com/event/2e-annee-9/
LOCATION:salle Lafage danse\, 2 Rue Lafage\, Toulouse\, 31300\, France
CATEGORIES:2e année,Cours
ATTACH;FMTTYPE=image/jpeg:https://faburlesque.com/wp-content/uploads/2023/07/123143539_10222760474462360_106654747560542742_o.jpg
ORGANIZER;CN="FAburlesque":MAILTO:contact@faburlesque.com
END:VEVENT
BEGIN:VEVENT
DTSTART;TZID=Europe/Paris:20260208T140000
DTEND;TZID=Europe/Paris:20260208T213000
DTSTAMP:20260423T165108
CREATED:20250816T204920Z
LAST-MODIFIED:20250816T204920Z
UID:4020-1770559200-1770586200@faburlesque.com
SUMMARY:Stage "Movie FAburlesque"
DESCRIPTION:Stage télevisuel \n– un atelier voix par Nini\n– un atelier maquillage par Camille Nuage\n– une chorégraphie avec effeuillage par Zephyr et Nini\n– la réalisation d’un clip combinant tous ces éléments \npossibilité de restitution à la scène ouverte « Petit et grand écrans » le 29/03/26 au Citron Bleu
URL:https://faburlesque.com/event/stage-movie-faburlesque/
LOCATION:Studio « Les ateliers Sarah Boy »\, 20 Rue Louis Eydoux\, Toulouse\, 31400\, France
CATEGORIES:Stage
ATTACH;FMTTYPE=image/jpeg:https://faburlesque.com/wp-content/uploads/2025/08/Affiche-Movie-scaled.jpg
ORGANIZER;CN="FAburlesque":MAILTO:contact@faburlesque.com
END:VEVENT
BEGIN:VEVENT
DTSTART;TZID=Europe/Paris:20260210T190000
DTEND;TZID=Europe/Paris:20260210T203000
DTSTAMP:20260423T165108
CREATED:20250816T111923Z
LAST-MODIFIED:20250816T154655Z
UID:3747-1770750000-1770755400@faburlesque.com
SUMMARY:Cours burlesque hebdo  "Je suis"
DESCRIPTION:Cycle 3 – Tête à tête 2
URL:https://faburlesque.com/event/cours-burlesque-hebdo-je-suis-14/
LOCATION:Salle Nini Lapointure /Paléficat\, 9 Chemin de Paléficat\, Toulouse\, 31200\, France
CATEGORIES:"Je suis",Cours burlesques hebdo
ATTACH;FMTTYPE=image/jpeg:https://faburlesque.com/wp-content/uploads/2022/05/01-IMG_3275-2-scaled.jpg
ORGANIZER;CN="FAburlesque":MAILTO:contact@faburlesque.com
END:VEVENT
BEGIN:VEVENT
DTSTART;TZID=Europe/Paris:20260210T204500
DTEND;TZID=Europe/Paris:20260210T221500
DTSTAMP:20260423T165108
CREATED:20250816T173257Z
LAST-MODIFIED:20250816T173257Z
UID:3854-1770756300-1770761700@faburlesque.com
SUMMARY:Cours burlesque hebdo  "Je fais"
DESCRIPTION:Cycle 3 – Tête à tête 2
URL:https://faburlesque.com/event/cours-burlesque-hebdo-je-fais-14/
LOCATION:Salle Nini Lapointure /Paléficat\, 9 Chemin de Paléficat\, Toulouse\, 31200\, France
CATEGORIES:"Je fais",Cours burlesques hebdo
ATTACH;FMTTYPE=image/jpeg:https://faburlesque.com/wp-content/uploads/2022/05/01-IMG_3275-2-scaled.jpg
ORGANIZER;CN="FAburlesque":MAILTO:contact@faburlesque.com
END:VEVENT
BEGIN:VEVENT
DTSTART;TZID=Europe/Paris:20260212T200000
DTEND;TZID=Europe/Paris:20260212T213000
DTSTAMP:20260423T165108
CREATED:20250816T185326Z
LAST-MODIFIED:20250816T185326Z
UID:3944-1770926400-1770931800@faburlesque.com
SUMMARY:2e année
DESCRIPTION:Cycle 3 – CHAPEAU bas 2
URL:https://faburlesque.com/event/2e-annee-10/
LOCATION:salle Lafage danse\, 2 Rue Lafage\, Toulouse\, 31300\, France
CATEGORIES:2e année,Cours
ATTACH;FMTTYPE=image/jpeg:https://faburlesque.com/wp-content/uploads/2023/07/123143539_10222760474462360_106654747560542742_o.jpg
ORGANIZER;CN="FAburlesque":MAILTO:contact@faburlesque.com
END:VEVENT
BEGIN:VEVENT
DTSTART;TZID=Europe/Paris:20260217T190000
DTEND;TZID=Europe/Paris:20260217T203000
DTSTAMP:20260423T165108
CREATED:20250816T111947Z
LAST-MODIFIED:20250816T154724Z
UID:3749-1771354800-1771360200@faburlesque.com
SUMMARY:Cours burlesque hebdo  "Je suis"
DESCRIPTION:Cycle 3 – Tête à tête 3
URL:https://faburlesque.com/event/cours-burlesque-hebdo-je-suis-15/
LOCATION:Salle Nini Lapointure /Paléficat\, 9 Chemin de Paléficat\, Toulouse\, 31200\, France
CATEGORIES:"Je suis",Cours burlesques hebdo
ATTACH;FMTTYPE=image/jpeg:https://faburlesque.com/wp-content/uploads/2022/05/01-IMG_3275-2-scaled.jpg
ORGANIZER;CN="FAburlesque":MAILTO:contact@faburlesque.com
END:VEVENT
BEGIN:VEVENT
DTSTART;TZID=Europe/Paris:20260217T204500
DTEND;TZID=Europe/Paris:20260217T221500
DTSTAMP:20260423T165108
CREATED:20250816T173344Z
LAST-MODIFIED:20250816T173344Z
UID:3856-1771361100-1771366500@faburlesque.com
SUMMARY:Cours burlesque hebdo  "Je fais"
DESCRIPTION:Cycle 3 – Tête à tête 3
URL:https://faburlesque.com/event/cours-burlesque-hebdo-je-fais-15/
LOCATION:Salle Nini Lapointure /Paléficat\, 9 Chemin de Paléficat\, Toulouse\, 31200\, France
CATEGORIES:"Je fais",Cours burlesques hebdo
ATTACH;FMTTYPE=image/jpeg:https://faburlesque.com/wp-content/uploads/2022/05/01-IMG_3275-2-scaled.jpg
ORGANIZER;CN="FAburlesque":MAILTO:contact@faburlesque.com
END:VEVENT
BEGIN:VEVENT
DTSTART;TZID=Europe/Paris:20260219T200000
DTEND;TZID=Europe/Paris:20260219T213000
DTSTAMP:20260423T165108
CREATED:20250816T185411Z
LAST-MODIFIED:20250816T185411Z
UID:3946-1771531200-1771536600@faburlesque.com
SUMMARY:2e année
DESCRIPTION:Cycle 3 – CHAPEAU bas 3
URL:https://faburlesque.com/event/2e-annee-11/
LOCATION:salle Lafage danse\, 2 Rue Lafage\, Toulouse\, 31300\, France
CATEGORIES:2e année,Cours
ATTACH;FMTTYPE=image/jpeg:https://faburlesque.com/wp-content/uploads/2023/07/123143539_10222760474462360_106654747560542742_o.jpg
ORGANIZER;CN="FAburlesque":MAILTO:contact@faburlesque.com
END:VEVENT
BEGIN:VEVENT
DTSTART;TZID=Europe/Paris:20260222T150000
DTEND;TZID=Europe/Paris:20260222T180000
DTSTAMP:20260423T165108
CREATED:20250816T181155Z
LAST-MODIFIED:20250816T181155Z
UID:3899-1771772400-1771783200@faburlesque.com
SUMMARY:Chœur burlesque
DESCRIPTION:Cycle 3 – Petit et grand écrans 1
URL:https://faburlesque.com/event/choeur-burlesque-7/
LOCATION:Salle Nini Lapointure /Paléficat\, 9 Chemin de Paléficat\, Toulouse\, 31200\, France
CATEGORIES:Chœur burlesque,Cours
ATTACH;FMTTYPE=image/jpeg:https://faburlesque.com/wp-content/uploads/2022/05/DSC05858RS-WEB-scaled.jpg
ORGANIZER;CN="FAburlesque":MAILTO:contact@faburlesque.com
END:VEVENT
BEGIN:VEVENT
DTSTART;TZID=Europe/Paris:20260226T200000
DTEND;TZID=Europe/Paris:20260226T220000
DTSTAMP:20260423T165108
CREATED:20250816T200340Z
LAST-MODIFIED:20250816T200340Z
UID:3976-1772136000-1772143200@faburlesque.com
SUMMARY:Burlesque musical
DESCRIPTION:Cycle 3 – Petit et grand écrans 1
URL:https://faburlesque.com/event/burlesque-musical-7/
LOCATION:salle Lafage danse\, 2 Rue Lafage\, Toulouse\, 31300\, France
CATEGORIES:Burlesque musical,Cours
ATTACH;FMTTYPE=image/jpeg:https://faburlesque.com/wp-content/uploads/2024/05/10-12-par-Melissa-Loubet-scaled.jpg
ORGANIZER;CN="FAburlesque":MAILTO:contact@faburlesque.com
END:VEVENT
END:VCALENDAR